BEGIN:VCALENDAR
VERSION:2.0
PRODID:-//ChamberMaster//Event Calendar 2.0//EN
METHOD:PUBLISH
X-PUBLISHED-TTL:P3D
REFRESH-INTERVAL:P3D
CALSCALE:GREGORIAN
BEGIN:VEVENT
DTSTART:20190720T023000Z
DTEND:20190721T043000Z
X-MICROSOFT-CDO-ALLDAYEVENT:FALSE
SUMMARY:Fantastical Family Night - Broadway Under the Stars
DESCRIPTION:Join the thousands of patrons that have been delighted and inspired by Transcendence's BROADWAY UNDER THE STARS in Sonoma Valley's Jack London State Historic Park. This award-winning event\, featuring world class talent from Broadway and beyond\, is set amongst the vineyards of Wine Country and begins with two and a half hours of pre-show picnicking\, music and wine on the property where Jack London wrote many of his famous books. The evening culminates in a Broadway experience under the stars in the breathtaking open-air winery ruins of the park - a spectacular location that was named by USA Today's 10Best as the #2 Outdoor Concert Venue You Shouldn't Miss in the US. From the young-in-years to the young-at-heart\, 'Fantastical Family Night' is a sensational\, fun-filled evening for all\, set to the tunes of Broadway\, Disney classics\, popular radio hits and beyond. Fantastical Family Night welcomes familiar faces and new friends to the stage when our Kids Summer Camp makes a spotlight appearance\, while the incredible talents of our Transcendence Broadway Artists make it a sensational\, hilarious and unforgettable family celebration. WHEN: 7:30 p.m. July 19 to July 20\, 2019 Friday\, July 19 Saturday\, July 20 WHERE: Jack London State Historic Park 2400 London Ranch Road\, Glen Ellen in Sonoma County\, California 95442 COST: $35 to $99 - General Reserved and Premium tickets per person VIP tickets\, season tickets\, and group tickets are also available. PHONE: 877-424-1414 DIRECT EVENT LINK: https://transcendencetheatre.org/fantastical-family-night/ WEBSITE: BestNightEver.org FACEBOOK: https://www.facebook.com/TTCsonoma/ TWITTER: @TTCsonoma WEBSITE: BestNightEver.org https://transcendencetheatre.org/ EMAIL: info@TTCsonoma.org TRANSCENDENCE PHONE: 877-424-1414 PUBLIC CONTACT PERSON: Leesa Young\, Box Office Manager EMAIL: info@TTCsonoma.org
X-ALT-DESC;FMTTYPE=text/html:Join the thousands of patrons that have been delighted and inspired by Transcendence&#39\;s BROADWAY UNDER THE STARS in Sonoma Valley&#39\;s Jack London State Historic Park. This award-winning event\, featuring world class talent from Broadway and beyond\, is set amongst the vineyards of Wine Country and begins with two and a half hours of pre-show picnicking\, music and wine on the property where Jack London wrote many of his famous books. The evening culminates in a Broadway experience under the stars in the breathtaking open-air winery ruins of the park - a spectacular location that was named by USA Today&rsquo\;s 10Best as the #2 Outdoor Concert Venue You Shouldn&rsquo\;t Miss in the US. From the young-in-years to the young-at-heart\, &#39\;Fantastical Family Night&#39\; is a sensational\, fun-filled evening for all\, set to the tunes of Broadway\, Disney classics\, popular radio hits and beyond. Fantastical Family Night welcomes familiar faces and new friends to the stage when our Kids Summer Camp makes a spotlight appearance\, while the incredible talents of our Transcendence Broadway Artists make it a sensational\, hilarious and unforgettable family celebration. WHEN: 7:30 p.m. July 19 to July 20\, 2019 Friday\, July 19 Saturday\, July 20 WHERE: Jack London State Historic Park 2400 London Ranch Road\, Glen Ellen in Sonoma County\, California 95442 COST: $35 to $99 - General Reserved and Premium tickets per person VIP tickets\, season tickets\, and group tickets are also available. PHONE: 877-424-1414 DIRECT EVENT LINK: https://transcendencetheatre.org/fantastical-family-night/ WEBSITE: BestNightEver.org FACEBOOK: https://www.facebook.com/TTCsonoma/ TWITTER: @TTCsonoma WEBSITE: BestNightEver.org https://transcendencetheatre.org/ EMAIL: info@TTCsonoma.org TRANSCENDENCE PHONE: 877-424-1414 PUBLIC CONTACT PERSON: Leesa Young\, Box Office Manager EMAIL: info@TTCsonoma.org
LOCATION:Jack London State Historic Park 2400 London Ranch Road Glen Ellen\, CA. 95442
UID:e.1308.12963
SEQUENCE:3
DTSTAMP:20260420T023501Z
URL:https://business.petalumachamber.biz/events/details/fantastical-family-night-broadway-under-the-stars-12963
END:VEVENT

END:VCALENDAR
