BEGIN:VCALENDAR
VERSION:2.0
PRODID:-//ChamberMaster//Event Calendar 2.0//EN
METHOD:PUBLISH
X-PUBLISHED-TTL:P3D
REFRESH-INTERVAL:P3D
CALSCALE:GREGORIAN
BEGIN:VEVENT
DTSTART:20200207T003000Z
DTEND:20200207T013000Z
X-MICROSOFT-CDO-ALLDAYEVENT:FALSE
SUMMARY:'First Thursday' - Labor Law Q&A Series
DESCRIPTION:2-6-20 CANCELLED\n\nTOPIC: WITH ARBITRATION GONE\, WHAT PROTECTION IS LEFT?    \n\nEffective January 1\, 2020\, employers can no longer require new employees to submit to binding arbitration for the purpose of resolving workplace disputes.  This seminar will focus on practical\, battle-tested strategies that can serve to effectively offset the loss of arbitration. \n\n\n\n\n\n\n\nThis ongoing seminar series is being conducted by veteran Petaluma labor & employment attorney\, Jay Putnam. Putnam\, has advised employers exclusively\, in labor matters for over 38 years. He hopes to provide local business owners and managers with a solid\, working understanding of California labor law\, as a means of helping them avoid the often crippling cost and disruption caused by lawsuits resulting from a misunderstanding of applicable legal requirements.\n\n\n\nAttendees are encouraged to bring their questions.  Putnam says he intends to conduct the seminars as "informal\," working sessions\, where people can bring their questions and leave each month with important information that will immediately improve their business operations.
X-ALT-DESC;FMTTYPE=text/html:<u><span style="font-size:24px\;"><span style="color:#FF0000\;"><span style="font-family:arial\,sans-serif"><span style="font-family:comic sans ms\;"><em><strong>2-6-20 CANCELLED</strong></em></span></span></span></span><br />\n<span style="color:#333333"><span style="font-family:arial\,sans-serif"><span style="font-size:10.0pt">TOPIC</span></span></span></u><span style="color:#333333"><span style="font-family:arial\,sans-serif"><span style="font-size:10.0pt">:&nbsp\;</span></span></span><strong><u><span style="font-family:times new roman\,serif\;"><span style="font-size:12.5pt\;">WITH ARBITRATION GONE\, WHAT PROTECTION IS LEFT?</span></span></u></strong>&nbsp\; &nbsp\;&nbsp\;<br />\nEffective January 1\, 2020\, employers can no longer require new employees to submit to binding arbitration for the purpose of resolving workplace disputes.&nbsp\; This seminar will focus on practical\, battle-tested strategies that can serve to effectively offset the loss of arbitration.&nbsp\;<br />\n<br />\n<br />\n<br />\n<em><span style="color:#1A1A1A"><span style="font-family:inherit\,serif"><span style="font-size:9.0pt"><span style="font-size:inherit"><span style="color:inherit"><span style="color:inherit">This ongoing seminar series is being conducted by veteran&nbsp\;Petaluma&nbsp\;labor &amp\; employment attorney\, Jay Putnam. Putnam\, has advised&nbsp\;<u>employers</u>&nbsp\;exclusively\, in labor matters for over 38 years. He hopes to provide local business owners and managers with a solid\, working understanding of California labor law\, as a means of helping them avoid the often crippling cost and disruption caused by lawsuits resulting from a misunderstanding of applicable legal requirements.</span></span></span></span></span></span></em><br />\n<br />\n<em><span style="color:#1A1A1A"><span style="font-family:inherit\,serif"><span style="font-size:9.0pt"><span style="font-size:inherit"><span style="color:inherit"><span style="color:inherit">Attendees are encouraged to bring their questions.&nbsp\; Putnam says he intends to conduct the seminars as &quot\;informal\,&quot\; working sessions\, where people can bring their questions and leave each month with important information that will immediately improve their business operations.</span></span></span></span></span></span></em>&nbsp\;&nbsp\;&nbsp\;&nbsp\;&nbsp\;&nbsp\;&nbsp\;&nbsp\;&nbsp\;&nbsp\;&nbsp\;&nbsp\;
LOCATION:6 Petaluma Blvd. N\, Suite B-11 (upstairs) Petaluma\, CA 94952
UID:e.1308.13811
SEQUENCE:3
DTSTAMP:20260420T144820Z
URL:https://business.petalumachamber.biz/events/details/first-thursday-labor-law-q-a-series-02-06-2020-13811
END:VEVENT

END:VCALENDAR
