BEGIN:VCALENDAR
VERSION:2.0
PRODID:-//ChamberMaster//Event Calendar 2.0//EN
METHOD:PUBLISH
X-PUBLISHED-TTL:P3D
REFRESH-INTERVAL:P3D
CALSCALE:GREGORIAN
BEGIN:VEVENT
DTSTART:20191003T233000Z
DTEND:20191004T003000Z
X-MICROSOFT-CDO-ALLDAYEVENT:FALSE
SUMMARY:'First Thursday' - Labor Law Q&A Series
DESCRIPTION:OCT 3rd Cancelled\n\n\n\nTitle:  Can I See My Personnel File? - The First Sign of Trouble\n\n \n\nOften a request to inspect or copy a personnel file or payroll record is a sign that a lawsuit may be forthcoming.  Do you know what to do if an employee asks to see their files?  Learn about your rights and legal requirements in this one hour presentation\, question and answer session for employers by seasoned labor attorney\, Jay G. Putnam.  Please bring your questions.\n\n\n\n\n\nThis ongoing seminar series is being conducted by veteran Petaluma labor & employment attorney\, Jay Putnam. Putnam\, has advised employers exclusively\, in labor matters for over 38 years. He hopes to provide local business owners and managers with a solid\, working understanding of California labor law\, as a means of helping them avoid the often crippling cost and disruption caused by lawsuits resulting from a misunderstanding of applicable legal requirements.\n\n\n\nAttendees are encouraged to bring their questions.  Putnam says he intends to conduct the seminars as "informal\," working sessions\, where people can bring their questions and leave each month with important information that will immediately improve their business operations.
X-ALT-DESC;FMTTYPE=text/html:<strong><span style="font-family:georgia\,serif\;"><span style="font-size:36px\;">OCT 3rd Cancelled</span><br />\n<br />\nTitle:&nbsp\; <u>Can I See My Personnel File? - The First Sign of Trouble</u></span></strong><br />\n&nbsp\;<br />\n<span style="font-family:georgia\,serif\;">Often a request to inspect or copy a personnel file or payroll record is a sign that a lawsuit may be forthcoming.&nbsp\; Do you know what to do if an employee asks to see their files?&nbsp\; Learn about your rights and legal requirements in this one hour presentation\, question and answer session for employers by seasoned labor attorney\, Jay G. Putnam.&nbsp\; Please bring your questions.</span><br />\n<br />\n<br />\n<em><span style="color:#1A1A1A"><span style="font-family:inherit\,serif"><span style="font-size:9.0pt"><span style="font-size:inherit"><span style="color:inherit"><span style="color:inherit">This ongoing seminar series is being conducted by veteran&nbsp\;Petaluma&nbsp\;labor &amp\; employment attorney\, Jay Putnam. Putnam\, has advised&nbsp\;<u>employers</u>&nbsp\;exclusively\, in labor matters for over 38 years. He hopes to provide local business owners and managers with a solid\, working understanding of California labor law\, as a means of helping them avoid the often crippling cost and disruption caused by lawsuits resulting from a misunderstanding of applicable legal requirements.</span></span></span></span></span></span></em><br />\n<br />\n<em><span style="color:#1A1A1A"><span style="font-family:inherit\,serif"><span style="font-size:9.0pt"><span style="font-size:inherit"><span style="color:inherit"><span style="color:inherit">Attendees are encouraged to bring their questions.&nbsp\; Putnam says he intends to conduct the seminars as &quot\;informal\,&quot\; working sessions\, where people can bring their questions and leave each month with important information that will immediately improve their business operations.</span></span></span></span></span></span></em>&nbsp\;&nbsp\;&nbsp\;&nbsp\;&nbsp\;&nbsp\;&nbsp\;&nbsp\;&nbsp\;&nbsp\;&nbsp\;&nbsp\;
LOCATION:6 Petaluma Blvd. N\, Suite B-11 (upstairs) Petaluma\, CA 94952
UID:e.1308.13626
SEQUENCE:3
DTSTAMP:20260420T081210Z
URL:https://business.petalumachamber.biz/events/details/first-thursday-labor-law-q-a-series-10-01-2019-13626
END:VEVENT

END:VCALENDAR
