BEGIN:VCALENDAR
VERSION:2.0
PRODID:-//ChamberMaster//Event Calendar 2.0//EN
METHOD:PUBLISH
X-PUBLISHED-TTL:P3D
REFRESH-INTERVAL:P3D
CALSCALE:GREGORIAN
BEGIN:VEVENT
DTSTART:20191108T003000Z
DTEND:20191108T013000Z
X-MICROSOFT-CDO-ALLDAYEVENT:FALSE
SUMMARY:'First Thursday' - Labor Law Q&A Series
DESCRIPTION:Labor Law Presentation for Employers Thursday 11/7/19\n\n \n\nTODAY'S SEMINAR HAS BEEN CANCELLED \n\n       \n\n \n\nPlease contact our office if you were planning to come and have questions about this or any other labor law topic.  707/778-5000\n\n\n\nTOPIC: "FREE CONSULTATION: HOW TO SUE YOUR EMPLOYER"\n\nEmployers remain frightfully uninformed as to how vulnerable they are to labor and employment-related claims. Join us to learn useful exercises in determining if your firm will appear to be an attractive target. Bring your questions about any labor law topic!\n\n\n\nThis ongoing seminar series is being conducted by veteran Petaluma labor & employment attorney\, Jay Putnam. Putnam\, has advised employers exclusively\, in labor matters for over 38 years. He hopes to provide local business owners and managers with a solid\, working understanding of California labor law\, as a means of helping them avoid the often crippling cost and disruption caused by lawsuits resulting from a misunderstanding of applicable legal requirements.\n\n\n\nAttendees are encouraged to bring their questions.  Putnam says he intends to conduct the seminars as "informal\," working sessions\, where people can bring their questions and leave each month with important information that will immediately improve their business operations.
X-ALT-DESC;FMTTYPE=text/html:<strong><span style="background:white\;"><span style="color:black\;"><span style="font-family:garamond\,serif\;"><span style="font-size:26.0pt\;">Labor Law Presentation for Employers Thursday 11/7/19</span></span></span></span></strong><br />\n&nbsp\;<br />\n<strong><span style="background:white\;"><span style="color:red\;"><span style="font-family:garamond\,serif\;"><span style="font-size:28.0pt\;">TODAY&rsquo\;S SEMINAR HAS BEEN CANCELLED </span></span></span></span></strong><br />\n&nbsp\;&nbsp\;&nbsp\;&nbsp\;&nbsp\;&nbsp\;&nbsp\;<br />\n&nbsp\;<br />\n<strong><span style="background:white\;"><span style="color:black\;"><span style="font-family:garamond\,serif\;"><span style="font-size:20.0pt\;">Please contact our office if you were planning to come and have questions about this or any other labor law topic.&nbsp\; 707/778-5000</span></span></span></span></strong><br />\n<br />\n<u><span style="color:#333333"><span style="font-family:arial\,sans-serif"><span style="font-size:10.0pt">TOPIC</span></span></span></u><span style="color:#333333"><span style="font-family:arial\,sans-serif"><span style="font-size:10.0pt">:&nbsp\;</span></span></span>&quot\;FREE CONSULTATION: HOW TO SUE YOUR EMPLOYER&quot\;<br />\nEmployers remain frightfully uninformed as to how vulnerable they are to labor and employment-related claims. Join us to learn useful exercises in determining if your firm will appear to be an attractive target. Bring your questions about any labor law topic!<br />\n<br />\n<em><span style="color:#1A1A1A"><span style="font-family:inherit\,serif"><span style="font-size:9.0pt"><span style="font-size:inherit"><span style="color:inherit"><span style="color:inherit">This ongoing seminar series is being conducted by veteran&nbsp\;Petaluma&nbsp\;labor &amp\; employment attorney\, Jay Putnam. Putnam\, has advised&nbsp\;<u>employers</u>&nbsp\;exclusively\, in labor matters for over 38 years. He hopes to provide local business owners and managers with a solid\, working understanding of California labor law\, as a means of helping them avoid the often crippling cost and disruption caused by lawsuits resulting from a misunderstanding of applicable legal requirements.</span></span></span></span></span></span></em><br />\n<br />\n<em><span style="color:#1A1A1A"><span style="font-family:inherit\,serif"><span style="font-size:9.0pt"><span style="font-size:inherit"><span style="color:inherit"><span style="color:inherit">Attendees are encouraged to bring their questions.&nbsp\; Putnam says he intends to conduct the seminars as &quot\;informal\,&quot\; working sessions\, where people can bring their questions and leave each month with important information that will immediately improve their business operations.</span></span></span></span></span></span></em>&nbsp\;&nbsp\;&nbsp\;&nbsp\;&nbsp\;&nbsp\;&nbsp\;&nbsp\;&nbsp\;&nbsp\;&nbsp\;&nbsp\;
LOCATION:6 Petaluma Blvd. N\, Suite B-11 (upstairs) Petaluma\, CA 94952
UID:e.1308.13808
SEQUENCE:3
DTSTAMP:20260420T093936Z
URL:https://business.petalumachamber.biz/events/details/first-thursday-labor-law-q-a-series-11-07-2019-13808
END:VEVENT

END:VCALENDAR
