BEGIN:VCALENDAR
VERSION:2.0
PRODID:-//ChamberMaster//Event Calendar 2.0//EN
METHOD:PUBLISH
X-PUBLISHED-TTL:P3D
REFRESH-INTERVAL:P3D
CALSCALE:GREGORIAN
BEGIN:VEVENT
DTSTART:20191206T003000Z
DTEND:20191206T013000Z
X-MICROSOFT-CDO-ALLDAYEVENT:FALSE
SUMMARY:'First Thursday' - Labor Law Q&A Series
DESCRIPTION:EVENT CANCELLED\n\nURGENT: January 1\, 2020 Deadline for Arbitration Policies\n\n\n\nOn October 10\, Governor Newsom signed AB 51\, which makes it unlawful to require existing or new\n\nemployees to arbitrate workplace disputes after January 1\, 2020. Employees already bound to legally enforceable arbitration agreements prior to January 1 are not affected by the new law. Employers are\n\nencouraged to be sure any arbitration policy not revised within the last six months be updated\, and\n\ndistributed to existing employees prior to the deadline. DO NOT MISS THIS DEADLINE!\n\n\n\nThis ongoing seminar series is being conducted by veteran Petaluma labor & employment attorney\, Jay Putnam. Putnam\, has advised employers exclusively\, in labor matters for over 38 years. He hopes to provide local business owners and managers with a solid\, working understanding of California labor law\, as a means of helping them avoid the often crippling cost and disruption caused by lawsuits resulting from a misunderstanding of applicable legal requirements.\n\n\n\nAttendees are encouraged to bring their questions.  Putnam says he intends to conduct the seminars as "informal\," working sessions\, where people can bring their questions and leave each month with important information that will immediately improve their business operations.
X-ALT-DESC;FMTTYPE=text/html:<strong><span style="color:red\;"><span style="font-size:48px\;">EVENT CANCELLED</span><br />\nURGENT:&nbsp\;January 1\, 2020 Deadline&nbsp\;for Arbitration Policies</span></strong><br />\n<br />\nOn October 10\, Governor Newsom signed AB 51\, which makes it unlawful to require existing or new<br />\nemployees to arbitrate workplace disputes after January 1\, 2020. Employees already bound to legally enforceable arbitration agreements prior to January 1 are not affected by the new law. Employers are<br />\nencouraged to be sure any arbitration policy not revised within the last six months be updated\, and<br />\ndistributed to existing employees prior to the deadline. DO NOT MISS THIS DEADLINE!<br />\n<br />\n<em><span style="color:#1A1A1A"><span style="font-family:inherit\,serif"><span style="font-size:9.0pt"><span style="font-size:inherit"><span style="color:inherit"><span style="color:inherit">This ongoing seminar series is being conducted by veteran&nbsp\;Petaluma&nbsp\;labor &amp\; employment attorney\, Jay Putnam. Putnam\, has advised&nbsp\;<u>employers</u>&nbsp\;exclusively\, in labor matters for over 38 years. He hopes to provide local business owners and managers with a solid\, working understanding of California labor law\, as a means of helping them avoid the often crippling cost and disruption caused by lawsuits resulting from a misunderstanding of applicable legal requirements.</span></span></span></span></span></span></em><br />\n<br />\n<em><span style="color:#1A1A1A"><span style="font-family:inherit\,serif"><span style="font-size:9.0pt"><span style="font-size:inherit"><span style="color:inherit"><span style="color:inherit">Attendees are encouraged to bring their questions.&nbsp\; Putnam says he intends to conduct the seminars as &quot\;informal\,&quot\; working sessions\, where people can bring their questions and leave each month with important information that will immediately improve their business operations.</span></span></span></span></span></span></em>&nbsp\;&nbsp\;&nbsp\;&nbsp\;&nbsp\;&nbsp\;&nbsp\;&nbsp\;&nbsp\;&nbsp\;&nbsp\;&nbsp\;
LOCATION:6 Petaluma Blvd. N\, Suite B-11 (upstairs) Petaluma\, CA 94952
UID:e.1308.13809
SEQUENCE:3
DTSTAMP:20260420T112244Z
URL:https://business.petalumachamber.biz/events/details/first-thursday-labor-law-q-a-series-12-05-2019-13809
END:VEVENT

END:VCALENDAR
