BEGIN:VCALENDAR
VERSION:2.0
PRODID:-//ChamberMaster//Event Calendar 2.0//EN
METHOD:PUBLISH
X-PUBLISHED-TTL:P3D
REFRESH-INTERVAL:P3D
CALSCALE:GREGORIAN
BEGIN:VEVENT
DTSTART:20190801T233000Z
DTEND:20190802T003000Z
X-MICROSOFT-CDO-ALLDAYEVENT:FALSE
SUMMARY:'First Thursday' - Labor Law Q&A Series
DESCRIPTION:TOPIC: Whistle Blowers- A Shrill Song\n\nDid you know that a whistle-blower claim arises\n\nwhen an employee is discharged or suffers other\n\nadverse employment action in retaliation for his/her\n\ndisclosure of information of (or refusal to participate\n\nin) unlawful acts?\n\nJoin us to learn about this topic and many other\n\nissues facing employers today. Bring your questions!\n\n\n\n\n\nThis ongoing seminar series is being conducted by veteran Petaluma labor & employment attorney\, Jay Putnam. Putnam\, has advised employers exclusively\, in labor matters for over 38 years. He hopes to provide local business owners and managers with a solid\, working understanding of California labor law\, as a means of helping them avoid the often crippling cost and disruption caused by lawsuits resulting from a misunderstanding of applicable legal requirements.\n\n\n\nAttendees are encouraged to bring their questions.  Putnam says he intends to conduct the seminars as "informal\," working sessions\, where people can bring their questions and leave each month with important information that will immediately improve their business operations.
X-ALT-DESC;FMTTYPE=text/html:<br />\n<br />\n<u><span style="color:#333333"><span style="font-family:arial\,sans-serif"><span style="font-size:10.0pt">TOPIC</span></span></span></u><span style="color:#333333"><span style="font-family:arial\,sans-serif"><span style="font-size:10.0pt">: Whistle Blowers- A Shrill Song</span></span></span><br />\nDid you know that a whistle-blower claim arises<br />\nwhen an employee is discharged or suffers other<br />\nadverse employment action in retaliation for his/her<br />\ndisclosure of information of (or refusal to participate<br />\nin) unlawful acts?<br />\nJoin us to learn about this topic and many other<br />\nissues facing employers today. Bring your questions!<br />\n<br />\n<br />\n<em><span style="color:#1A1A1A"><span style="font-family:inherit\,serif"><span style="font-size:9.0pt"><span style="font-size:inherit"><span style="color:inherit"><span style="color:inherit">This ongoing seminar series is being conducted by veteran&nbsp\;Petaluma&nbsp\;labor &amp\; employment attorney\, Jay Putnam. Putnam\, has advised&nbsp\;<u>employers</u>&nbsp\;exclusively\, in labor matters for over 38 years. He hopes to provide local business owners and managers with a solid\, working understanding of California labor law\, as a means of helping them avoid the often crippling cost and disruption caused by lawsuits resulting from a misunderstanding of applicable legal requirements.</span></span></span></span></span></span></em><br />\n<br />\n<em><span style="color:#1A1A1A"><span style="font-family:inherit\,serif"><span style="font-size:9.0pt"><span style="font-size:inherit"><span style="color:inherit"><span style="color:inherit">Attendees are encouraged to bring their questions.&nbsp\; Putnam says he intends to conduct the seminars as &quot\;informal\,&quot\; working sessions\, where people can bring their questions and leave each month with important information that will immediately improve their business operations.</span></span></span></span></span></span></em>&nbsp\;&nbsp\;&nbsp\;&nbsp\;&nbsp\;&nbsp\;&nbsp\;&nbsp\;&nbsp\;&nbsp\;&nbsp\;&nbsp\;
LOCATION:6 Petaluma Blvd. N\, Suite B-11 (upstairs) Petaluma\, CA 94952
UID:e.1308.13624
SEQUENCE:3
DTSTAMP:20260420T041852Z
URL:https://business.petalumachamber.biz/events/details/first-thursday-labor-law-q-a-series-13624
END:VEVENT

END:VCALENDAR
