BEGIN:VCALENDAR
VERSION:2.0
PRODID:-//ChamberMaster//Event Calendar 2.0//EN
METHOD:PUBLISH
X-PUBLISHED-TTL:P3D
REFRESH-INTERVAL:P3D
CALSCALE:GREGORIAN
BEGIN:VEVENT
DTSTART:20181101T233000Z
DTEND:20181102T003000Z
X-MICROSOFT-CDO-ALLDAYEVENT:FALSE
SUMMARY:'First Thursday' - Labor Law Seminar Series
DESCRIPTION:The Status of Workplace Arbitration Policies\n\nOn September 30\, Governor Brown vetoed AB 3080\, which would have gutted the right of employers to require arbitration of workplace disputes.  This is a major victory for employers.  We will discuss why employers should take advantage of it\, and what enforceable arbitration policy requires.\n\n\n\nThis ongoing seminar series is being conducted by veteran Petaluma labor & employment attorney\, Jay Putnam. Putnam\, has advised employers exclusively\, in labor matters for over 36 years. He hopes to provide local business owners and managers with a solid\, working understanding of California labor law\, as a means of helping them avoid the often crippling cost and disruption caused by lawsuits resulting from a misunderstanding of applicable legal requirements.\n\n\n\nMembers are encouraged to bring their questions.  Putnam says he intends to conduct the seminars as "informal\, working sessions\, where people can bring their lunch and their questions and leave each month with important information that will immediately improve their business operations.
X-ALT-DESC;FMTTYPE=text/html:<strong><span style="color:red\;"><span style="font-family:arial\,sans-serif\;"><span style="font-size:18.0pt\;">The Status of Workplace Arbitration Policies</span></span></span></strong><br />\n<span style="color:#000066\;"><span style="font-family:calibri\,sans-serif\;"><span style="font-size:13.0pt\;">On September 30\, Governor Brown vetoed AB 3080\, which would have gutted the right of employers to require arbitration of workplace disputes.&nbsp\; This is a major victory for employers.&nbsp\; We will discuss why employers should take advantage of it\, and what enforceable arbitration policy requires.</span></span></span><br />\n<br />\n<span style="color:#1A1A1A\;"><span style="font-family:arial\,sans-serif\;"><span style="font-size:9.0pt\;">This ongoing seminar series is being conducted by veteran&nbsp\;Petaluma&nbsp\;labor &amp\; employment attorney\, Jay Putnam. Putnam\, has advised&nbsp\;<u>employers</u>&nbsp\;exclusively\, in labor matters for over 36 years. He hopes to provide local business owners and managers with a solid\, working understanding of California labor law\, as a means of helping them avoid the often crippling cost and disruption caused by lawsuits resulting from a misunderstanding of applicable legal requirements.</span></span></span><br />\n<br />\n<span style="color:#1A1A1A\;"><span style="font-family:arial\,sans-serif\;"><span style="font-size:9.0pt\;">Members are encouraged to bring their questions.&nbsp\; Putnam says he intends to conduct the seminars as &quot\;informal\, working sessions\, where people can bring their lunch and their questions and leave each month with important information that will immediately improve their business operations.</span></span></span>
LOCATION:6 Petaluma Blvd N\, Ste A2 Petaluma\, CA 94952
UID:e.1308.5765
SEQUENCE:3
DTSTAMP:20260419T130423Z
URL:https://business.petalumachamber.biz/events/details/first-thursday-labor-law-seminar-series-11-01-2018-5765
END:VEVENT

END:VCALENDAR
