BEGIN:VCALENDAR
VERSION:2.0
PRODID:-//ChamberMaster//Event Calendar 2.0//EN
METHOD:PUBLISH
X-PUBLISHED-TTL:P3D
REFRESH-INTERVAL:P3D
CALSCALE:GREGORIAN
BEGIN:VEVENT
DTSTART:20181110T030000Z
DTEND:20181110T050000Z
X-MICROSOFT-CDO-ALLDAYEVENT:FALSE
SUMMARY:Flamenco Night
DESCRIPTION:Let us take you to the heart of Southern Spain with this Spanish-themed evening featuring a performance by local flamenco group Aguilar Flamenco!\n\nIn partnership with Recreation Reimagined\, we bring to you an event on the lighter side. Tickets for $25 include dance and tapas (7-9 pm). A variety of Spanish wines will be available for purchase.\n\nEvent is adults only but there will be free childcare provided for children 2-8\n\nTickets must be purchased in advance at Recreation Reimagined
X-ALT-DESC;FMTTYPE=text/html:<p>Let us take you to the heart of Southern Spain with this Spanish-themed evening featuring a performance by local flamenco group Aguilar Flamenco!</p>\n\n<p>In partnership with Recreation Reimagined\, we bring to you an event on the lighter side. Tickets for $25 include dance and tapas (7-9 pm). A variety of Spanish wines will be available for purchase.</p>\n\n<p>Event is adults only but there will be free childcare provided for children 2-8</p>\n\n<p>Tickets must be purchased in advance at&nbsp\;<a href="https://www.recreationreimagined.com/events/" style="box-sizing: border-box\; background: transparent\; outline: 0px\; border: none\; text-decoration-line: none\; box-shadow: none\; color: rgb(101\, 101\, 101)\; padding: 0px\;">Recreation Reimagined</a></p>\n
LOCATION:Keller Street CoWork 140 Keller Street
UID:e.1308.12818
SEQUENCE:3
DTSTAMP:20260419T130014Z
URL:https://business.petalumachamber.biz/events/details/flamenco-night-12818
END:VEVENT

END:VCALENDAR
