BEGIN:VCALENDAR
VERSION:2.0
PRODID:-//ChamberMaster//Event Calendar 2.0//EN
METHOD:PUBLISH
X-PUBLISHED-TTL:P3D
REFRESH-INTERVAL:P3D
CALSCALE:GREGORIAN
BEGIN:VEVENT
DTSTART:20190305T210000Z
DTEND:20190305T223000Z
X-MICROSOFT-CDO-ALLDAYEVENT:FALSE
SUMMARY:For the Love of Learning: Try OLLI!
DESCRIPTION:Classes at Sonoma State's Osher Lifelong Learning Institute (OLLI) offer older adults an opportunity to continue their education without tests and grades in a fun\, relaxed\, congenial environment. Enjoy a sample lecture on artists Jackson Pollack\, Lee Krasner\, Mark Rothko\, and more   all of whose work we can see at S.F.'s Museum of Modern Art. Open to the public and free. RSVP ASAP to info@VillageNetworkofPetaluma.org or 707-776-6055. Presenter Linda Loveland Reid chairs OLLI's Community Outreach Program and is a popular lecturer\, teaching art history at both Sonoma State and Dominican Universities.
X-ALT-DESC;FMTTYPE=text/html:Classes at Sonoma State&rsquo\;s Osher Lifelong Learning Institute (OLLI) offer older adults an opportunity to continue their education without tests and grades in a fun\, relaxed\, congenial environment. Enjoy a sample lecture on artists Jackson Pollack\, Lee Krasner\, Mark Rothko\, and more &ndash\; all of whose work we can see at S.F.&rsquo\;s Museum of Modern Art. Open to the public and free. RSVP ASAP to info@VillageNetworkofPetaluma.org or 707-776-6055. Presenter Linda Loveland Reid chairs OLLI&rsquo\;s Community Outreach Program and is a popular lecturer\, teaching art history at both Sonoma State and Dominican Universities.
LOCATION:Petaluma Library\, 100 Fairgrounds Drive\, Petaluma
UID:e.1308.12936
SEQUENCE:3
DTSTAMP:20260419T194127Z
URL:https://business.petalumachamber.biz/events/details/for-the-love-of-learning-try-olli-12936
END:VEVENT

END:VCALENDAR
