BEGIN:VCALENDAR
VERSION:2.0
PRODID:-//ChamberMaster//Event Calendar 2.0//EN
METHOD:PUBLISH
X-PUBLISHED-TTL:P3D
REFRESH-INTERVAL:P3D
CALSCALE:GREGORIAN
BEGIN:VEVENT
DTSTART:20220419T230000Z
DTEND:20220420T013000Z
X-MICROSOFT-CDO-ALLDAYEVENT:FALSE
SUMMARY:Forty Under 40 Awards Celebration
DESCRIPTION:Join the North Bay Business Journal as we celebrate this new generation of leaders who are shaping the future of our North Bay business community. In addition\, this is a great opportunity to network and congratulate these outstanding individuals at our Forty under 40 Awards   held at a new venue at The Barlow in Sebastopol. The North Bay Business Journal's Forty under 40 awards is one of the most sought-after and distinguished business awards for young business leaders and celebrates outstanding young professional achievements\, leadership qualities and contributions to the community. If you are interested in a purchasing a table at the event\, please contact Tiana Sandoval at tiana.sandoval@busjrnl.com for more information and pricing.
X-ALT-DESC;FMTTYPE=text/html:Join the North Bay Business Journal as we celebrate this new generation of leaders who are shaping the future of our North Bay business community. In addition\, this is a great opportunity to network and congratulate these outstanding individuals at our Forty under 40 Awards &ndash\; held at a new venue at The Barlow in Sebastopol. The North Bay Business Journal&rsquo\;s Forty under 40 awards is one of the most sought-after and distinguished business awards for young business leaders and celebrates outstanding young professional achievements\, leadership qualities and contributions to the community. If you are interested in a purchasing a table at the event\, please contact Tiana Sandoval at tiana.sandoval@busjrnl.com for more information and pricing.
LOCATION:Blue Ridge Kitchens
UID:e.1308.16385
SEQUENCE:3
DTSTAMP:20260422T095741Z
URL:https://business.petalumachamber.biz/events/details/forty-under-40-awards-celebration-16385
END:VEVENT

END:VCALENDAR
