BEGIN:VCALENDAR
VERSION:2.0
PRODID:-//ChamberMaster//Event Calendar 2.0//EN
METHOD:PUBLISH
X-PUBLISHED-TTL:P3D
REFRESH-INTERVAL:P3D
CALSCALE:GREGORIAN
BEGIN:VEVENT
DTSTART:20190205T090000Z
DTEND:20190205T223000Z
X-MICROSOFT-CDO-ALLDAYEVENT:FALSE
SUMMARY:Frauds and Scams: What’s Going Around Petaluma?
DESCRIPTION:Trained volunteers from the Petaluma Police Department visited the Village Network in 2017 to tell us about the frauds and scams floating around town. They're coming back to update us on phone calls\, knocks on the door\, people on the street\, and mailings we should watch out for. We'll learn how to recognize and handle these intrusions and how to report them. Open to the Village community and the public at large. Please RSVP by January 29th to info@VillageNetworkofPetaluma.org or 707-776-6055 to ensure a seat at this important presentation.
X-ALT-DESC;FMTTYPE=text/html:Trained volunteers from the Petaluma Police Department visited the Village Network in 2017 to tell us about the frauds and scams floating around town. They&#39\;re coming back to update us on phone calls\, knocks on the door\, people on the street\, and mailings we should watch out for. We&rsquo\;ll learn how to recognize and handle these intrusions and how to report them. Open to the Village community and the public at large. Please RSVP by January 29th to info@VillageNetworkofPetaluma.org or 707-776-6055 to ensure a seat at this important presentation.
LOCATION:Village Network office\, 955 Petaluma Blvd. South\, Petaluma
UID:e.1308.12911
SEQUENCE:3
DTSTAMP:20260419T175648Z
URL:https://business.petalumachamber.biz/events/details/frauds-and-scams-what-s-going-around-petaluma-12911
END:VEVENT

END:VCALENDAR
