BEGIN:VCALENDAR
VERSION:2.0
PRODID:-//ChamberMaster//Event Calendar 2.0//EN
METHOD:PUBLISH
X-PUBLISHED-TTL:P3D
REFRESH-INTERVAL:P3D
CALSCALE:GREGORIAN
BEGIN:VEVENT
DTSTART:20220219T180000Z
DTEND:20220220T073000Z
X-MICROSOFT-CDO-ALLDAYEVENT:FALSE
SUMMARY:FREE art PlayLab. Explore Gelli Printing
DESCRIPTION:Free. Easy printmaking project. All supplies provided. Create one-of designs using acrylic paint\, nature stencils and gelli plate press. Our February theme is WIDENING THE CIRCLE. "This February\, I'd love to see us stretch ourselves and try new things that are outside our comfort zone. Come on a journey of discovery with us\, and try your hand at Gelli Printmaking. It's very fun and easy. We will also pay attention to the sounds and textures we experience as we create our one of a kind nature inspired prints. The prints can be finished artworks in their own right\, or unique papers to use in collage projects." - Elizabeth McKoy\, Director\, Artaluma This is a free event. Donations to cover material costs are much appreciated. Artaluma a 501(c)(3) non-profit. Tax ID 20-1867951
X-ALT-DESC;FMTTYPE=text/html:Free. Easy printmaking project. All supplies provided. Create one-of designs using acrylic paint\, nature stencils and gelli plate press. Our February theme is WIDENING THE CIRCLE. &quot\;This February\, I&rsquo\;d love to see us stretch ourselves and try new things that are outside our comfort zone. Come on a journey of discovery with us\, and try your hand at Gelli Printmaking. It&#39\;s very fun and easy. We will also pay attention to the sounds and textures we experience as we create our one of a kind nature inspired prints. The prints can be finished artworks in their own right\, or unique papers to use in collage projects.&quot\; - Elizabeth McKoy\, Director\, Artaluma This is a free event. Donations to cover material costs are much appreciated. Artaluma a 501(c)(3) non-profit. Tax ID 20-1867951
LOCATION:Artaluma\, 145 Keller Street\, Petaluma\, CA
UID:e.1308.16388
SEQUENCE:3
DTSTAMP:20260422T064839Z
URL:https://business.petalumachamber.biz/events/details/free-art-playlab-explore-gelli-printing-16388
END:VEVENT

END:VCALENDAR
