BEGIN:VCALENDAR
VERSION:2.0
PRODID:-//ChamberMaster//Event Calendar 2.0//EN
METHOD:PUBLISH
X-PUBLISHED-TTL:P3D
REFRESH-INTERVAL:P3D
CALSCALE:GREGORIAN
BEGIN:VEVENT
DTSTART:20190915T003000Z
DTEND:20190915T030000Z
X-MICROSOFT-CDO-ALLDAYEVENT:FALSE
SUMMARY:Free Family Movie Night at the Museum
DESCRIPTION:Free Family Movie Night at the Museum - 9/14 5:30-8pm- The Wizard of Oz 10/5 5:30-8pm - Pixar Coco Free admission Concessions for sale All ages welcome petalumamuseum.com
X-ALT-DESC;FMTTYPE=text/html:Free Family Movie Night at the Museum - 9/14 5:30-8pm- The Wizard of Oz 10/5 5:30-8pm - Pixar Coco Free admission Concessions for sale All ages welcome petalumamuseum.com
LOCATION:Petaluma Historical Library & Museum 20 Fourth St.\, Petaluma\, CA 94952
UID:e.1308.13797
SEQUENCE:3
DTSTAMP:20260420T061831Z
URL:https://business.petalumachamber.biz/events/details/free-family-movie-night-at-the-museum-13797
END:VEVENT

END:VCALENDAR
