BEGIN:VCALENDAR
VERSION:2.0
PRODID:-//ChamberMaster//Event Calendar 2.0//EN
METHOD:PUBLISH
X-PUBLISHED-TTL:P3D
REFRESH-INTERVAL:P3D
CALSCALE:GREGORIAN
BEGIN:VEVENT
DTSTART:20210623T230000Z
DTEND:20210624T000000Z
X-MICROSOFT-CDO-ALLDAYEVENT:FALSE
SUMMARY:Free Intro to Pilates Class - Club Pilates Petaluma East
DESCRIPTION:TRY A FREE PILATES INTRODUCTORY CLASS!\n\nBacked by science & beloved by All Ages and Fitness Levels\, Pilates helps strengthen everyBODY to live life to the fullest. Get started by trying a Free Intro Pilates Class today! \n\n\n\nBeginners class\, one time only.
X-ALT-DESC;FMTTYPE=text/html:<h3>TRY A FREE PILATES INTRODUCTORY CLASS!</h3>\n\n<h3>Backed by science &amp\; beloved by All Ages and Fitness Levels\, Pilates helps strengthen everyBODY to live life to the fullest. Get started by trying a Free Intro Pilates Class today!&nbsp\;</h3>\n\n<h5><br />\nBeginners class\, one time only.</h5>\n
LOCATION:Club Pilates Petaluma East 289 N. McDowell Blvd Petaluma\, CA 94954 707.559.9110
UID:e.1308.14139
SEQUENCE:3
DTSTAMP:20260421T172332Z
URL:https://business.petalumachamber.biz/events/details/free-intro-to-pilates-class-club-pilates-petaluma-east-14139
END:VEVENT

END:VCALENDAR
