BEGIN:VCALENDAR
VERSION:2.0
PRODID:-//ChamberMaster//Event Calendar 2.0//EN
METHOD:PUBLISH
X-PUBLISHED-TTL:P3D
REFRESH-INTERVAL:P3D
CALSCALE:GREGORIAN
BEGIN:VEVENT
DTSTART:20220220T230000Z
DTEND:20220221T000000Z
X-MICROSOFT-CDO-ALLDAYEVENT:FALSE
SUMMARY:FREE Introduction to Groove Dance Fitness
DESCRIPTION:FREE. Fun adult dance class. Nurture your mind\, body\, heart and soul. No dance experience necessary - with Elizabeth McKoy. Groove is a dynamically interactive and creative group dance experience. With great music your facilitator will unite everyone in movement or rhythm. You get to dance in your own unique way while exploring a variety of styles and genres. No fancy steps or complicated choreography. Just come as you are! Wear comfortable clothes and bring a water bottle.
X-ALT-DESC;FMTTYPE=text/html:FREE. Fun adult dance class. Nurture your mind\, body\, heart and soul. No dance experience necessary - with Elizabeth McKoy. Groove is a dynamically interactive and creative group dance experience. With great music your facilitator will unite everyone in movement or rhythm. You get to dance in your own unique way while exploring a variety of styles and genres. No fancy steps or complicated choreography. Just come as you are! Wear comfortable clothes and bring a water bottle.
LOCATION:Artaluma\, 145 Keller Street\, Petaluma\, CA
UID:e.1308.16387
SEQUENCE:3
DTSTAMP:20260422T065141Z
URL:https://business.petalumachamber.biz/events/details/free-introduction-to-groove-dance-fitness-16387
END:VEVENT

END:VCALENDAR
