BEGIN:VCALENDAR
VERSION:2.0
PRODID:-//ChamberMaster//Event Calendar 2.0//EN
METHOD:PUBLISH
X-PUBLISHED-TTL:P3D
REFRESH-INTERVAL:P3D
CALSCALE:GREGORIAN
BEGIN:VEVENT
DTSTART:20200115T210000Z
DTEND:20200115T230000Z
X-MICROSOFT-CDO-ALLDAYEVENT:FALSE
SUMMARY:Free Workshop: Spark Your Inspiration for 2020
DESCRIPTION:Village Network of Petaluma\, a nonprofit known for "aging better together".\n\n\n\nInteractive Workshop led by Elad Levinson\, author of Learn to Dance on Jello and Inspire Me!\n\nKick-off the new year with an in-depth guide to sparking your inspiration.\n\nHeld at Petaluma Regional Library\, 100 Fairgrounds Dr.\, Petaluma CA 94952\n\n\n\n\n\nRSVP & INFO:    Free and open to 30 participants.\n\nPre-registration is required at:  info@villagenetworkofpetaluma.org  or 707-776-6055
X-ALT-DESC;FMTTYPE=text/html:<span style="color:#1d2228"><span style="font-family:calibri"><span style="font-size:10pt">Village Network of Petaluma\, a nonprofit known for &ldquo\;aging better together&rdquo\;.</span></span></span><br />\n<br />\n<span style="color:#1d2228"><span style="font-family:calibri"><span style="font-size:10pt">Interactive Workshop led by Elad Levinson\, author of&nbsp\;<strong>Learn to Dance on Jello&nbsp\;</strong>and&nbsp\;<strong>Inspire Me!</strong></span></span></span><br />\n<span style="color:rgb(29\, 34\, 40)\; font-family:calibri\; font-size:10pt">Kick-off the new year with an in-depth guide to sparking your inspiration.<br />\nHeld at&nbsp\;</span><span style="color:#1d2228"><span style="font-family:calibri"><span style="font-size:10pt">Petaluma Regional Library\, 100 Fairgrounds Dr.\, Petaluma CA 94952</span></span></span><br />\n<br />\n<br />\n<span style="color:#1d2228"><span style="font-family:calibri"><span style="font-size:10pt">RSVP &amp\; INFO:&nbsp\; &nbsp\; Free and open to 30 participants.<br />\nPre-registration is required at: &lt\;<span style="color:blue">info@villagenetworkofpetaluma.org</span>&gt\; or 707-776-6055</span></span></span><br />\n&nbsp\;<br />\n<br />\n&nbsp\;
LOCATION:Held at Petaluma Regional Library\, 100 Fairgrounds Dr.\, Petaluma CA 94952
UID:e.1308.13986
SEQUENCE:3
DTSTAMP:20260420T131057Z
URL:https://business.petalumachamber.biz/events/details/free-workshop-spark-your-inspiration-for-2020-13986
END:VEVENT

END:VCALENDAR
