BEGIN:VCALENDAR
VERSION:2.0
PRODID:-//ChamberMaster//Event Calendar 2.0//EN
METHOD:PUBLISH
X-PUBLISHED-TTL:P3D
REFRESH-INTERVAL:P3D
CALSCALE:GREGORIAN
BEGIN:VEVENT
DTSTART:20211014T160000Z
DTEND:20211014T230000Z
X-MICROSOFT-CDO-ALLDAYEVENT:FALSE
SUMMARY:Freedom Day USA
DESCRIPTION:Petaluma Dental Group is excited to present Freedom Day USA with FREE DENTAL CARE! A day where businesses across the nation come together to show their appreciation to the members of our Military\, Military families\, Veterans\, and First Responders by providing a DAY OF FREE! Honoring the sacrifices you make to protect our freedom. It's time to serve you!
X-ALT-DESC;FMTTYPE=text/html:Petaluma Dental Group is excited to present Freedom Day USA with FREE DENTAL CARE! A day where businesses across the nation come together to show their appreciation to the members of our Military\, Military families\, Veterans\, and First Responders by providing a DAY OF FREE! Honoring the sacrifices you make to protect our freedom. It&rsquo\;s time to serve you!
LOCATION:Petaluma\, CA 94954
UID:e.1308.16352
SEQUENCE:3
DTSTAMP:20260421T235944Z
URL:https://business.petalumachamber.biz/events/details/freedom-day-usa-16352
END:VEVENT

END:VCALENDAR
