BEGIN:VCALENDAR
VERSION:2.0
PRODID:-//ChamberMaster//Event Calendar 2.0//EN
METHOD:PUBLISH
X-PUBLISHED-TTL:P3D
REFRESH-INTERVAL:P3D
CALSCALE:GREGORIAN
BEGIN:VEVENT
DTSTART:20190605T000000Z
DTEND:20190605T010000Z
X-MICROSOFT-CDO-ALLDAYEVENT:FALSE
SUMMARY:Fundraiser for Petaluma High School
DESCRIPTION:Four Petaluma High School Seniors won gold in the Broadcast News Production competition during the California State SkillsUSA Championships\, and on June 4th\, from 5 - 6pm\, Keller Street CoWork is hosting a fundraiser to send the team to the National competition in Louisville\, KY.
X-ALT-DESC;FMTTYPE=text/html:Four Petaluma High School Seniors won gold in the Broadcast News Production competition during the California State SkillsUSA Championships\, and on June 4th\, from 5 - 6pm\, Keller Street CoWork is hosting a fundraiser to send the team to the National competition in Louisville\, KY.
LOCATION:Keller St CoWork 140 Keller St Petaluma\, CA
UID:e.1308.13756
SEQUENCE:3
DTSTAMP:20260420T004302Z
URL:https://business.petalumachamber.biz/events/details/fundraiser-for-petaluma-high-school-13756
END:VEVENT

END:VCALENDAR
