BEGIN:VCALENDAR
VERSION:2.0
PRODID:-//ChamberMaster//Event Calendar 2.0//EN
METHOD:PUBLISH
X-PUBLISHED-TTL:P3D
REFRESH-INTERVAL:P3D
CALSCALE:GREGORIAN
BEGIN:VEVENT
DTSTART:20201023T020000Z
DTEND:20201023T040000Z
X-MICROSOFT-CDO-ALLDAYEVENT:FALSE
SUMMARY:Gace Under Fire
DESCRIPTION:Ladies in Leadership\, a division of the Northbay Alliance of Professional Women Inc (a 501(c)3 non-profit) invites you to join us for an evening of inspiration\, leadership\, wisdom\, humor\, connection\, networking and growth! This event is open to all. Tickets and Sponsorships available now. Our speakers represent the areas of education\, spirit\, business\, and health.
X-ALT-DESC;FMTTYPE=text/html:Ladies in Leadership\, a division of the Northbay Alliance of Professional Women Inc (a 501(c)3 non-profit) invites you to join us for an evening of inspiration\, leadership\, wisdom\, humor\, connection\, networking and growth! This event is open to all. Tickets and Sponsorships available now. Our speakers represent the areas of education\, spirit\, business\, and health.
LOCATION:Virtual Zoom Event
UID:e.1308.14114
SEQUENCE:3
DTSTAMP:20260421T035118Z
URL:https://business.petalumachamber.biz/events/details/gace-under-fire-14114
END:VEVENT

END:VCALENDAR
