BEGIN:VCALENDAR
VERSION:2.0
PRODID:-//ChamberMaster//Event Calendar 2.0//EN
METHOD:PUBLISH
X-PUBLISHED-TTL:P3D
REFRESH-INTERVAL:P3D
CALSCALE:GREGORIAN
BEGIN:VEVENT
DTSTART:20190907T023000Z
DTEND:20190909T043000Z
X-MICROSOFT-CDO-ALLDAYEVENT:FALSE
SUMMARY:Gala Celebration - Broadway Under the Stars
DESCRIPTION:Join the thousands of patrons that have been delighted and inspired by Transcendence's BROADWAY UNDER THE STARS in Sonoma Valley's Jack London State Historic Park. This award-winning event\, featuring world class talent from Broadway and beyond\, is set amongst the vineyards of Wine Country and begins with two and a half hours of pre-show picnicking\, music and wine on the property where Jack London lived and wrote many of his famous books. The evening culminates in a Broadway experience under the stars in the breathtaking open-air winery ruins in a one-of-a-kind setting that was named by USA Today's 10Best as the #2 Outdoor Concert Venue You Shouldn't Miss in the US. The Gala Celebration rises as a glittering crescendo of song and dance that completes our 2019 summer season. It's the "can't miss" celebration of the year\, featuring community tributes\, one-night-only opportunities\, and songs that will ignite your heart and reinvigorate your soul. WHEN: 7:30 p.m. September 6 to September 8\, 2019 Friday\, September 6 Saturday\, September 7 Sunday\, September 8 WHERE: Jack London State Historic Park 2400 London Ranch Road\, Glen Ellen in Sonoma County\, California 95442 COST: $45 to $99 - General Reserved and Premium tickets per person VIP tickets\, season tickets\, and group tickets are also available. PHONE: 877-424-1414 DIRECT EVENT LINK: https://transcendencetheatre.org/gala-celebration/ WEBSITE: BestNightEver.org FACEBOOK: https://www.facebook.com/TTCsonoma/ TWITTER: @TTCsonoma WEBSITE: BestNightEver.org https://transcendencetheatre.org/ EMAIL: info@TTCsonoma.org TRANSCENDENCE PHONE: 877-424-1414 PUBLIC CONTACT PERSON: Leesa Young\, Box Office Manager EMAIL: info@TTCsonoma.org
X-ALT-DESC;FMTTYPE=text/html:Join the thousands of patrons that have been delighted and inspired by Transcendence&#39\;s BROADWAY UNDER THE STARS in Sonoma Valley&#39\;s Jack London State Historic Park. This award-winning event\, featuring world class talent from Broadway and beyond\, is set amongst the vineyards of Wine Country and begins with two and a half hours of pre-show picnicking\, music and wine on the property where Jack London lived and wrote many of his famous books. The evening culminates in a Broadway experience under the stars in the breathtaking open-air winery ruins in a one-of-a-kind setting that was named by USA Today&rsquo\;s 10Best as the #2 Outdoor Concert Venue You Shouldn&rsquo\;t Miss in the US. The Gala Celebration rises as a glittering crescendo of song and dance that completes our 2019 summer season. It&rsquo\;s the &ldquo\;can&rsquo\;t miss&rdquo\; celebration of the year\, featuring community tributes\, one-night-only opportunities\, and songs that will ignite your heart and reinvigorate your soul. WHEN: 7:30 p.m. September 6 to September 8\, 2019 Friday\, September 6 Saturday\, September 7 Sunday\, September 8 WHERE: Jack London State Historic Park 2400 London Ranch Road\, Glen Ellen in Sonoma County\, California 95442 COST: $45 to $99 - General Reserved and Premium tickets per person VIP tickets\, season tickets\, and group tickets are also available. PHONE: 877-424-1414 DIRECT EVENT LINK: https://transcendencetheatre.org/gala-celebration/ WEBSITE: BestNightEver.org FACEBOOK: https://www.facebook.com/TTCsonoma/ TWITTER: @TTCsonoma WEBSITE: BestNightEver.org https://transcendencetheatre.org/ EMAIL: info@TTCsonoma.org TRANSCENDENCE PHONE: 877-424-1414 PUBLIC CONTACT PERSON: Leesa Young\, Box Office Manager EMAIL: info@TTCsonoma.org
LOCATION:Jack London State Historic Park 2400 London Ranch Road\, Glen Ellen in Sonoma County\, California 95442
UID:e.1308.12965
SEQUENCE:3
DTSTAMP:20260420T060618Z
URL:https://business.petalumachamber.biz/events/details/gala-celebration-broadway-under-the-stars-12965
END:VEVENT

END:VCALENDAR
