BEGIN:VCALENDAR
VERSION:2.0
PRODID:-//ChamberMaster//Event Calendar 2.0//EN
METHOD:PUBLISH
X-PUBLISHED-TTL:P3D
REFRESH-INTERVAL:P3D
CALSCALE:GREGORIAN
BEGIN:VEVENT
DTSTART:20190321T010000Z
DTEND:20190321T023000Z
X-MICROSOFT-CDO-ALLDAYEVENT:FALSE
SUMMARY:Gallivant on Grant
DESCRIPTION:Gallivanting with a great group of women walkers is fun! Admire beautiful shop windows and connect with Novato history as we ramble down Grant Avenue\, stopping for refreshments after our walk. Join us.
X-ALT-DESC;FMTTYPE=text/html:Gallivanting with a great group of women walkers is fun! Admire beautiful shop windows and connect with Novato history as we ramble down Grant Avenue\, stopping for refreshments after our walk. Join us.
LOCATION:Grant Avenue Novato
UID:e.1308.12951
SEQUENCE:3
DTSTAMP:20260419T192815Z
URL:https://business.petalumachamber.biz/events/details/gallivant-on-grant-12951
END:VEVENT

END:VCALENDAR
