BEGIN:VCALENDAR
VERSION:2.0
PRODID:-//ChamberMaster//Event Calendar 2.0//EN
METHOD:PUBLISH
X-PUBLISHED-TTL:P3D
REFRESH-INTERVAL:P3D
CALSCALE:GREGORIAN
BEGIN:VEVENT
DTSTART:20210121T190000Z
DTEND:20210121T200000Z
X-MICROSOFT-CDO-ALLDAYEVENT:FALSE
SUMMARY:Get To Know the Village
DESCRIPTION:The Village Network of Petaluma (and Penngrove) is responding to the pandemic by creating new ways for members and volunteers to connect with each other\, build new friendships\, and offer mutual support as we navigate opportunities and realities in this historic time. Village membership now offers online wellness programs\, interest groups\, educational webinars\, and social events - as well as volunteer services including grocery shopping\, prescription pick-ups\, phone friends\, computer help by Zoom\, and customized referrals to community resources. When the shelter-in-place orders allow\, we will gradually resume offering our usual in-person programs such as driving\, friendly visits\, minor home repairs\, and Med Pals. This is an online or phone meeting for potential members (ages 50+)\, their adult children\, and those interested in volunteering (any age). The Village Network of Petaluma is a non-profit membership organization created to empower adults 50+ to live active\, vibrant\, and connected lives in our own homes as we age. We are part of a national movement\, with 250+ groups formed since 2004.
X-ALT-DESC;FMTTYPE=text/html:The Village Network of Petaluma (and Penngrove) is responding to the pandemic by creating new ways for members and volunteers to connect with each other\, build new friendships\, and offer mutual support as we navigate opportunities and realities in this historic time. Village membership now offers online wellness programs\, interest groups\, educational webinars\, and social events - as well as volunteer services including grocery shopping\, prescription pick-ups\, phone friends\, computer help by Zoom\, and customized referrals to community resources. When the shelter-in-place orders allow\, we will gradually resume offering our usual in-person programs such as driving\, friendly visits\, minor home repairs\, and Med Pals. This is an online or phone meeting for potential members (ages 50+)\, their adult children\, and those interested in volunteering (any age). The Village Network of Petaluma is a non-profit membership organization created to empower adults 50+ to live active\, vibrant\, and connected lives in our own homes as we age. We are part of a national movement\, with 250+ groups formed since 2004.
LOCATION:Virtual
UID:e.1308.14123
SEQUENCE:3
DTSTAMP:20260421T092545Z
URL:https://business.petalumachamber.biz/events/details/get-to-know-the-village-14123
END:VEVENT

END:VCALENDAR
