BEGIN:VCALENDAR
VERSION:2.0
PRODID:-//ChamberMaster//Event Calendar 2.0//EN
METHOD:PUBLISH
X-PUBLISHED-TTL:P3D
REFRESH-INTERVAL:P3D
CALSCALE:GREGORIAN
BEGIN:VEVENT
DTSTART:20200910T180000Z
DTEND:20200910T190000Z
X-MICROSOFT-CDO-ALLDAYEVENT:FALSE
SUMMARY:Get to Know the Village - info mtg.
DESCRIPTION:Learn how adults ages 50+ enjoy connection with others through the Village Network in Petaluma and Penngrove. We believe a better experience of aging is possible when we can grow with\, laugh with\, and rely on each other as we navigate the opportunities and realities of aging.\n\n\n\nFind out how we're adapting to COVID guidelines\, by offering many online or phone-in connections.\n\nThis is a great intro for prospective volunteers and/or anyone ages 50+ who is curious about membership. \n\nVillage membership offers social programs and connections as well as volunteer services including transportation\, note-taking at medical appointments\, friendly visits\, computer help\, and personalized referrals to community resources. Bring a friend and get your questions answered.\n\nMeet Village members and volunteers. Questions: call the Village office at 776-6055 or info@Village NetworkofPetaluma.org.
X-ALT-DESC;FMTTYPE=text/html:<span style="font-family:helvetica"><span style="font-size:14pt">Learn how adults ages 50+ enjoy connection with others through the Village Network in Petaluma and Penngrove. We believe a better experience of aging is possible when we can grow with\, laugh with\, and rely on each other as we navigate the opportunities and realities of aging.<br />\n<br />\nFind out how we&#39\;re adapting to COVID guidelines\, by offering many online or phone-in connections.<br />\nThis is a great intro for prospective volunteers and/or anyone ages 50+ who is curious about membership.&nbsp\;<br />\nVillage membership offers social programs and connections as well as volunteer services including transportation\, note-taking at medical appointments\, friendly visits\, computer help\, and personalized referrals to community resources. Bring a friend and get your questions answered.<br />\nMeet Village members and volunteers. Questions: call the Village office at 776-6055 or</span></span>&nbsp\;<span style="color:#13741f"><span style="font-family:helvetica"><span style="font-size:14pt"><u><span style="color:mediumblue">info@Village NetworkofPetaluma.org</span></u></span></span></span><span style="color:mediumblue"><span style="font-family:helvetica"><span style="font-size:14pt">.</span></span></span><br />\n<br />\n&nbsp\;
LOCATION:410 D St. (at Fifth St.\, on Methodist Church campus)\, Petaluma
UID:e.1308.14091
SEQUENCE:3
DTSTAMP:20260421T023348Z
URL:https://business.petalumachamber.biz/events/details/get-to-know-the-village-info-mtg-09-10-2020-14091
END:VEVENT

END:VCALENDAR
