BEGIN:VCALENDAR
VERSION:2.0
PRODID:-//ChamberMaster//Event Calendar 2.0//EN
METHOD:PUBLISH
X-PUBLISHED-TTL:P3D
REFRESH-INTERVAL:P3D
CALSCALE:GREGORIAN
BEGIN:VEVENT
DTSTART:20190613T190000Z
DTEND:20190613T220000Z
X-MICROSOFT-CDO-ALLDAYEVENT:FALSE
SUMMARY:Getting Started with Instagram
DESCRIPTION:Join the Small Business Development Center as they present a hands-on workshop to learn how to switch your account to a business account\, and how to use and manage posts\, hashtags and stories.
X-ALT-DESC;FMTTYPE=text/html:Join the Small Business Development Center as they present a hands-on workshop to learn how to switch your account to a business account\, and how to use and manage posts\, hashtags and stories.
LOCATION:PACC Conference room 6 Petaluma Blvd N\, Suite B-11
UID:e.1308.13615
SEQUENCE:3
DTSTAMP:20260420T004201Z
URL:https://business.petalumachamber.biz/events/details/getting-started-with-instagram-13615
END:VEVENT

END:VCALENDAR
