BEGIN:VCALENDAR
VERSION:2.0
PRODID:-//ChamberMaster//Event Calendar 2.0//EN
METHOD:PUBLISH
X-PUBLISHED-TTL:P3D
REFRESH-INTERVAL:P3D
CALSCALE:GREGORIAN
BEGIN:VEVENT
DTSTART:20200122T003000Z
DTEND:20200122T020000Z
X-MICROSOFT-CDO-ALLDAYEVENT:FALSE
SUMMARY:Glorious Goddess Group Walk
DESCRIPTION:Tuesday\, January 21st 4:30 pm Shollenberger Park\, Petaluma Who's a Glorious Goddess? You are! We are! We walk\, we talk\, we stop for moments & celebrate nature and cherish our time together. We walk to feel good! How will we do this? We will walk (of course!) and wander\, laugh and be joyful\, embrace mindful moments and celebrate one another's differences and similarities. We walk rain or shine so if it's raining bring your rain boots and umbrella. The world unfurls its mysteries in the rain. Members: Free Guests: $5 Walk pace: Moderate to fast Distance: 1-2 miles Meet location emailed to you after sign up. Walks start promptly at 4:30\, please arrive a few minutes early. Walks are approximately one hour\, but they end when they end. Please leave your doggo friends home for this one.
X-ALT-DESC;FMTTYPE=text/html:Tuesday\, January 21st 4:30 pm Shollenberger Park\, Petaluma Who&rsquo\;s a Glorious Goddess? You are! We are! We walk\, we talk\, we stop for moments &amp\; celebrate nature and cherish our time together. We walk to feel good! How will we do this? We will walk (of course!) and wander\, laugh and be joyful\, embrace mindful moments and celebrate one another&rsquo\;s differences and similarities. We walk rain or shine so if it&rsquo\;s raining bring your rain boots and umbrella. The world unfurls its mysteries in the rain. Members: Free Guests: $5 Walk pace: Moderate to fast Distance: 1-2 miles Meet location emailed to you after sign up. Walks start promptly at 4:30\, please arrive a few minutes early. Walks are approximately one hour\, but they end when they end. Please leave your doggo friends home for this one.
LOCATION:Petaluma
UID:e.1308.13987
SEQUENCE:3
DTSTAMP:20260420T131039Z
URL:https://business.petalumachamber.biz/events/details/glorious-goddess-group-walk-01-21-2020-13987
END:VEVENT

END:VCALENDAR
