BEGIN:VCALENDAR
VERSION:2.0
PRODID:-//ChamberMaster//Event Calendar 2.0//EN
METHOD:PUBLISH
X-PUBLISHED-TTL:P3D
REFRESH-INTERVAL:P3D
CALSCALE:GREGORIAN
BEGIN:VEVENT
DTSTART:20191217T234500Z
DTEND:20191218T004500Z
X-MICROSOFT-CDO-ALLDAYEVENT:FALSE
SUMMARY:Glorious Goddess Group Walk
DESCRIPTION:Glorious Goddess Walk December 17 @ 3:45 pm - 4:45 pm Shollenberger Park As Glorious Goddesses\, we will celebrate ourselves and the coming of the winter solstice 12/21\, the longest night of the year and the transition into the light. How will we do this\, you might ask? Ha! We will walk! And laugh and be silly as we encourage one another's creativity\, confidence and enthusiasm. We walk rain or shine so if it's raining bring your rain boots and umbrella. The world shows its mysteries in the rain. Free for members $5 for non members. **Meet location will be emailed to you upon sign up. Walks start promptly\, please arrive a few minutes early. Please leave your doggo friends home for this one.
X-ALT-DESC;FMTTYPE=text/html:Glorious Goddess Walk December 17 @ 3:45 pm - 4:45 pm Shollenberger Park As Glorious Goddesses\, we will celebrate ourselves and the coming of the winter solstice 12/21\, the longest night of the year and the transition into the light. How will we do this\, you might ask? Ha! We will walk! And laugh and be silly as we encourage one another&rsquo\;s creativity\, confidence and enthusiasm. We walk rain or shine so if it&rsquo\;s raining bring your rain boots and umbrella. The world shows its mysteries in the rain. Free for members $5 for non members. **Meet location will be emailed to you upon sign up. Walks start promptly\, please arrive a few minutes early. Please leave your doggo friends home for this one.
LOCATION:Meet location emailed upon sign up.
UID:e.1308.13974
SEQUENCE:3
DTSTAMP:20260420T112106Z
URL:https://business.petalumachamber.biz/events/details/glorious-goddess-group-walk-13974
END:VEVENT

END:VCALENDAR
