BEGIN:VCALENDAR
VERSION:2.0
PRODID:-//ChamberMaster//Event Calendar 2.0//EN
METHOD:PUBLISH
X-PUBLISHED-TTL:P3D
REFRESH-INTERVAL:P3D
CALSCALE:GREGORIAN
BEGIN:VEVENT
DTSTART:20201023T020000Z
DTEND:20201023T040000Z
X-MICROSOFT-CDO-ALLDAYEVENT:FALSE
SUMMARY:Grace Under Fire: Leading Through Crisis
DESCRIPTION:Ladies in Leadership\, a division of the Northbay Alliance of Professional Women Inc (a 501(c)3 non-profit) invites you to join us for an evening of inspiration\, leadership\, wisdom\, humor\, connection\, networking and growth! This event is open to all. Tickets and Sponsorships available now. Our speakers represent the areas of education\, spirit\, business\, and health. Please Call Judy Wilkins at 650-380-2580 or Michelle Martin at 707-217-9994 or see our website. Zoom Meeting ID and P/W are granted upon Registration.
X-ALT-DESC;FMTTYPE=text/html:Ladies in Leadership\, a division of the Northbay Alliance of Professional Women Inc (a 501(c)3 non-profit) invites you to join us for an evening of inspiration\, leadership\, wisdom\, humor\, connection\, networking and growth! This event is open to all. Tickets and Sponsorships available now. Our speakers represent the areas of education\, spirit\, business\, and health. Please Call Judy Wilkins at 650-380-2580 or Michelle Martin at 707-217-9994 or see our website. Zoom Meeting ID and P/W are granted upon Registration.
LOCATION:Remote. Zoom Meeting ID and P/W are granted upon Registration.
UID:e.1308.14113
SEQUENCE:3
DTSTAMP:20260421T035116Z
URL:https://business.petalumachamber.biz/events/details/grace-under-fire-leading-through-crisis-14113
END:VEVENT

END:VCALENDAR
