BEGIN:VCALENDAR
VERSION:2.0
PRODID:-//ChamberMaster//Event Calendar 2.0//EN
METHOD:PUBLISH
X-PUBLISHED-TTL:P3D
REFRESH-INTERVAL:P3D
CALSCALE:GREGORIAN
BEGIN:VEVENT
DTSTART:20191120T000000Z
DTEND:20191120T030000Z
X-MICROSOFT-CDO-ALLDAYEVENT:FALSE
SUMMARY:Grand Opening: Re/Max Gold
DESCRIPTION:Please join Re/Max Gold and the Petaluma Area Chamber of Commerce for a grand opening and ribbon cutting ceremony!\n\n\n\nLite bites and libations will be served.\n\n\n\nRSVP to events@norcalgold.com
X-ALT-DESC;FMTTYPE=text/html:Please join Re/Max Gold and the Petaluma Area Chamber of Commerce for a grand opening and ribbon cutting ceremony!<br />\n<br />\nLite bites and libations will be served.<br />\n<br />\nRSVP to events@norcalgold.com
LOCATION:140 2nd Street\, Suite 108 Petaluma\, CA 94952
UID:e.1308.13957
SEQUENCE:3
DTSTAMP:20260420T093823Z
URL:https://business.petalumachamber.biz/events/details/grand-opening-re-max-gold-13957
END:VEVENT

END:VCALENDAR
