BEGIN:VCALENDAR
VERSION:2.0
PRODID:-//ChamberMaster//Event Calendar 2.0//EN
METHOD:PUBLISH
X-PUBLISHED-TTL:P3D
REFRESH-INTERVAL:P3D
CALSCALE:GREGORIAN
BEGIN:VEVENT
DTSTART:20191108T003000Z
DTEND:20191108T023000Z
X-MICROSOFT-CDO-ALLDAYEVENT:FALSE
SUMMARY:Grand Opening: West and Pure Apothecary
DESCRIPTION:Join us for a celebration and ribbon cutting at West and Pure Apothecary's grand opening!\n\n\n\nWine\, beer and champagne plus snacks provided along with raffle prizes and exclusive discounts on our services!
X-ALT-DESC;FMTTYPE=text/html:Join us for a celebration and ribbon cutting at West and Pure Apothecary&#39\;s grand opening!<br />\n<br />\nWine\, beer and champagne plus snacks provided along with raffle prizes and exclusive discounts on our services!
LOCATION:17A 4th Street in Downtown Petaluma
UID:e.1308.13944
SEQUENCE:3
DTSTAMP:20260420T094134Z
URL:https://business.petalumachamber.biz/events/details/grand-opening-west-and-pure-apothecary-13944
END:VEVENT

END:VCALENDAR
