BEGIN:VCALENDAR
VERSION:2.0
PRODID:-//ChamberMaster//Event Calendar 2.0//EN
METHOD:PUBLISH
X-PUBLISHED-TTL:P3D
REFRESH-INTERVAL:P3D
CALSCALE:GREGORIAN
BEGIN:VEVENT
DTSTART:20190221T013000Z
DTEND:20190221T030000Z
X-MICROSOFT-CDO-ALLDAYEVENT:FALSE
SUMMARY:Grant Avenue Gallivant Group Walk
DESCRIPTION:Gallivanting with a great group of women walkers is fun! Taking time to admire beautiful shop windows and connect with Novato history is the theme as we ramble down Grant Avenue\, stopping for refreshments after our walk. Join us.
X-ALT-DESC;FMTTYPE=text/html:Gallivanting with a great group of women walkers is fun! Taking time to admire beautiful shop windows and connect with Novato history is the theme as we ramble down Grant Avenue\, stopping for refreshments after our walk. Join us.
LOCATION:Grant Avenue at Dr Insomniacs Coffee
UID:e.1308.12932
SEQUENCE:3
DTSTAMP:20260419T175634Z
URL:https://business.petalumachamber.biz/events/details/grant-avenue-gallivant-group-walk-12932
END:VEVENT

END:VCALENDAR
