BEGIN:VCALENDAR
VERSION:2.0
PRODID:-//ChamberMaster//Event Calendar 2.0//EN
METHOD:PUBLISH
X-PUBLISHED-TTL:P3D
REFRESH-INTERVAL:P3D
CALSCALE:GREGORIAN
BEGIN:VEVENT
DTSTART:20190901T000000Z
DTEND:20191021T000000Z
X-MICROSOFT-CDO-ALLDAYEVENT:FALSE
SUMMARY:Great Outdoors Exhibition
DESCRIPTION:Great Outdoors Exhibition Opening reception: Sat. August 31\, 5-7pm Free & open to the public. Light refreshments and $5 wine servings available. All artwork for sale. Exhibit Dates: August 31   October 20
X-ALT-DESC;FMTTYPE=text/html:Great Outdoors Exhibition Opening reception: Sat. August 31\, 5-7pm Free &amp\; open to the public. Light refreshments and $5 wine servings available. All artwork for sale. Exhibit Dates: August 31 &ndash\; October 20
LOCATION:Healdsburg Center for the Arts 130 Plaza St Healdsburg
UID:e.1308.13790
SEQUENCE:3
DTSTAMP:20260420T060621Z
URL:https://business.petalumachamber.biz/events/details/great-outdoors-exhibition-13790
END:VEVENT

END:VCALENDAR
