BEGIN:VCALENDAR
VERSION:2.0
PRODID:-//ChamberMaster//Event Calendar 2.0//EN
METHOD:PUBLISH
X-PUBLISHED-TTL:P3D
REFRESH-INTERVAL:P3D
CALSCALE:GREGORIAN
BEGIN:VEVENT
DTSTART:20191031T220000Z
DTEND:20191101T003000Z
X-MICROSOFT-CDO-ALLDAYEVENT:FALSE
SUMMARY:Halloween Trick or Treat Trail
DESCRIPTION:Join over 80 participating Downtown merchants for a fun and safe community Halloween for the entire family and goodies for costumed kids under 12. Prepare for a hauntingly "ghould" time from 3 - 5:30pm on Thursday\, October 31st as the scary\, the cute\, the ugly and the creepy descend on Downtown Petaluma.
X-ALT-DESC;FMTTYPE=text/html:Join over 80 participating Downtown merchants for a fun and safe community Halloween for the entire family and goodies for costumed kids under 12. Prepare for a hauntingly &quot\;ghould&quot\; time from 3 - 5:30pm on Thursday\, October 31st as the scary\, the cute\, the ugly and the creepy descend on Downtown Petaluma.
LOCATION:Historic Downtown Petaluma
UID:e.1308.13945
SEQUENCE:3
DTSTAMP:20260420T081227Z
URL:https://business.petalumachamber.biz/events/details/halloween-trick-or-treat-trail-10-31-2019-13945
END:VEVENT

END:VCALENDAR
