BEGIN:VCALENDAR
VERSION:2.0
PRODID:-//ChamberMaster//Event Calendar 2.0//EN
METHOD:PUBLISH
X-PUBLISHED-TTL:P3D
REFRESH-INTERVAL:P3D
CALSCALE:GREGORIAN
BEGIN:VEVENT
DTSTART:20190511T200000Z
DTEND:20190511T230000Z
X-MICROSOFT-CDO-ALLDAYEVENT:FALSE
SUMMARY:Heritage Homes Spring Garden & Parlor Tour
DESCRIPTION:Lush gardens in bloom and gracious parlors of three historic residences will offer a glimpse of Petaluma's past and present beauty. Includes a stop at the Petaluma Historical Library & Museum to view their McNear Parlor and enjoy Tea and cookies in the Museum Garden Court. Tickets would be a great Mother's Day gift and lovely way to spend time with family and friends on Mother' Friess Day weekend. Proceeds directly benefit the Petaluma Museum Association. $20 for adults and children over 12\, and can be purchased on Museum website. Children 12 and under are free when accompanied by an adult.
X-ALT-DESC;FMTTYPE=text/html:Lush gardens in bloom and gracious parlors of three historic residences will offer a glimpse of Petaluma&rsquo\;s past and present beauty. Includes a stop at the Petaluma Historical Library &amp\; Museum to view their McNear Parlor and enjoy Tea and cookies in the Museum Garden Court. Tickets would be a great Mother&rsquo\;s Day gift and lovely way to spend time with family and friends on Mother&rsquo\; Friess Day weekend. Proceeds directly benefit the Petaluma Museum Association. $20 for adults and children over 12\, and can be purchased on Museum website. Children 12 and under are free when accompanied by an adult.
LOCATION:Petaluma Historical Library & Museum 20 Fourth St.\, Petaluma\, CA 94952
UID:e.1308.13096
SEQUENCE:3
DTSTAMP:20260419T225818Z
URL:https://business.petalumachamber.biz/events/details/heritage-homes-spring-garden-parlor-tour-13096
END:VEVENT

END:VCALENDAR
