BEGIN:VCALENDAR
VERSION:2.0
PRODID:-//ChamberMaster//Event Calendar 2.0//EN
METHOD:PUBLISH
X-PUBLISHED-TTL:P3D
REFRESH-INTERVAL:P3D
CALSCALE:GREGORIAN
BEGIN:VEVENT
DTSTART:20190630T230000Z
DTEND:20190701T010000Z
X-MICROSOFT-CDO-ALLDAYEVENT:FALSE
SUMMARY:Historic Hotel Petaluma Singles Party
DESCRIPTION:Historic Hotel Petaluma provides a lovely setting for meeting new friends! Our last party here attracted 80 singles\, in the midst of a torrential rainstorm. Hopefully this party will do even better\, weather permitting. Only $10 at the door includes a FUN Mixer Game\, accompanied by light appetizers\, courtesy of The Shuckery\, served at 4pm\, as long as they last. Dress to impress. Adults of all ages welcome. Sunday\, June 30\, 2019\, 4-6pm. LOCATION: Hotel Petaluma\, 205 Kentucky St\, at E. Washington\, Downtown Petaluma CA 94952. This is a must-see hotel! From Hwy 101 take E Washington exit west. Free parking nearby. CO-SPONSORED by The Society of Single Professionals\, the world's largest non-profit singles organization\; Singles2Couples\; and by many singles meetups. MORE PARTIES at www.thepartyhotline.com.
X-ALT-DESC;FMTTYPE=text/html:Historic Hotel Petaluma provides a lovely setting for meeting new friends! Our last party here attracted 80 singles\, in the midst of a torrential rainstorm. Hopefully this party will do even better\, weather permitting. Only $10 at the door includes a FUN Mixer Game\, accompanied by light appetizers\, courtesy of The Shuckery\, served at 4pm\, as long as they last. Dress to impress. Adults of all ages welcome. Sunday\, June 30\, 2019\, 4-6pm. LOCATION: Hotel Petaluma\, 205 Kentucky St\, at E. Washington\, Downtown Petaluma CA 94952. This is a must-see hotel! From Hwy 101 take E Washington exit west. Free parking nearby. CO-SPONSORED by The Society of Single Professionals\, the world&rsquo\;s largest non-profit singles organization\; Singles2Couples\; and by many singles meetups. MORE PARTIES at www.thepartyhotline.com.
LOCATION:Hotel Petaluma\, 205 Kentucky St\, Petaluma CA
UID:e.1308.13620
SEQUENCE:3
DTSTAMP:20260420T004553Z
URL:https://business.petalumachamber.biz/events/details/historic-hotel-petaluma-singles-party-13620
END:VEVENT

END:VCALENDAR
