BEGIN:VCALENDAR
VERSION:2.0
PRODID:-//ChamberMaster//Event Calendar 2.0//EN
METHOD:PUBLISH
X-PUBLISHED-TTL:P3D
REFRESH-INTERVAL:P3D
CALSCALE:GREGORIAN
BEGIN:VEVENT
DTSTART:20181021T210000Z
DTEND:20181021T223000Z
X-MICROSOFT-CDO-ALLDAYEVENT:FALSE
SUMMARY:“History of Petaluma Gas Stations” Presentation
DESCRIPTION:Join Terry Park\, local researcher\, Petaluma Museum volunteer\, and author of two volumes on the history of Petaluma Gas Stations and Petaluma Auto Dealerships\, as he discusses the history of these locations in Petaluma. The son of a former Petaluma gas station owner\, Terry has done exhaustive research on the subject and will be sharing photos and anecdotes about the history of this fascinating subject.
X-ALT-DESC;FMTTYPE=text/html:Join Terry Park\, local researcher\, Petaluma Museum volunteer\, and author of two volumes on the history of Petaluma Gas Stations and Petaluma Auto Dealerships\, as he discusses the history of these locations in Petaluma. The son of a former Petaluma gas station owner\, Terry has done exhaustive research on the subject and will be sharing photos and anecdotes about the history of this fascinating subject.
LOCATION:Petaluma Historical Library & Museum 20 4th St Petaluma\, CA United States
UID:e.1308.12797
SEQUENCE:3
DTSTAMP:20260419T114503Z
URL:https://business.petalumachamber.biz/events/details/history-of-petaluma-gas-stations-presentation-12797
END:VEVENT

END:VCALENDAR
