BEGIN:VCALENDAR
VERSION:2.0
PRODID:-//ChamberMaster//Event Calendar 2.0//EN
METHOD:PUBLISH
X-PUBLISHED-TTL:P3D
REFRESH-INTERVAL:P3D
CALSCALE:GREGORIAN
BEGIN:VEVENT
DTSTART:20211204T190000Z
DTEND:20211205T010000Z
X-MICROSOFT-CDO-ALLDAYEVENT:FALSE
SUMMARY:Holiday Open House & Kentucky Street Holiday Market
DESCRIPTION:Gather your friends\, make a day of it. Enjoy downtown Petaluma by starting off with breakfast at one of our delicious cafes\, then follow with a stroll through the market on Kentucky Street that will be full of local vendors who make pottery\, knitted items\, honey\, Kokedamas\, and more. The air will be filled with sounds of carolers\, with the opportunity to make holiday decor at the various crafting stations. You may even see Santa & Mrs. Clause along the way. Then grab some lunch or a snack at one of the near by restaurants. While you continue down the streets\, go into the various festive stores that will be open with Christmas cheer and tasty goodies\, possibly even some deals for the Holiday Open House. 11-5pm
X-ALT-DESC;FMTTYPE=text/html:Gather your friends\, make a day of it. Enjoy downtown Petaluma by starting off with breakfast at one of our delicious cafes\, then follow with a stroll through the market on Kentucky Street that will be full of local vendors who make pottery\, knitted items\, honey\, Kokedamas\, and more. The air will be filled with sounds of carolers\, with the opportunity to make holiday decor at the various crafting stations. You may even see Santa &amp\; Mrs. Clause along the way. Then grab some lunch or a snack at one of the near by restaurants. While you continue down the streets\, go into the various festive stores that will be open with Christmas cheer and tasty goodies\, possibly even some deals for the Holiday Open House. 11-5pm
LOCATION:Downtown Petaluma
UID:e.1308.16368
SEQUENCE:3
DTSTAMP:20260422T030605Z
URL:https://business.petalumachamber.biz/events/details/holiday-open-house-kentucky-street-holiday-market-16368
END:VEVENT

END:VCALENDAR
