BEGIN:VCALENDAR
VERSION:2.0
PRODID:-//ChamberMaster//Event Calendar 2.0//EN
METHOD:PUBLISH
X-PUBLISHED-TTL:P3D
REFRESH-INTERVAL:P3D
CALSCALE:GREGORIAN
BEGIN:VEVENT
DTSTART:20191208T190000Z
DTEND:20191208T220000Z
X-MICROSOFT-CDO-ALLDAYEVENT:FALSE
SUMMARY:Holiday Open House Luncheon
DESCRIPTION:Valley Orchards Retirement Community\n\nHOLIDAY OPEN HOUSE LUNCHEON\n\n Special Day of Open House Offer!\n\n Delicious Luncheon!\n\n View Model Rooms!\n\n Enjoy a Personal Tour!\n\n Live Music!
X-ALT-DESC;FMTTYPE=text/html:Valley Orchards Retirement Community<br />\nHOLIDAY OPEN HOUSE LUNCHEON<br />\n&#61558\;Special Day of Open House Offer!<br />\n&#61558\;Delicious Luncheon!<br />\n&#61558\;View Model Rooms!<br />\n&#61558\;Enjoy a Personal Tour!<br />\n&#61558\;Live Music!
LOCATION:2100 East Washington St
UID:e.1308.13963
SEQUENCE:3
DTSTAMP:20260420T112239Z
URL:https://business.petalumachamber.biz/events/details/holiday-open-house-luncheon-13963
END:VEVENT

END:VCALENDAR
