BEGIN:VCALENDAR
VERSION:2.0
PRODID:-//ChamberMaster//Event Calendar 2.0//EN
METHOD:PUBLISH
X-PUBLISHED-TTL:P3D
REFRESH-INTERVAL:P3D
CALSCALE:GREGORIAN
BEGIN:VEVENT
DTSTART:20181217T020000Z
DTEND:20181217T030000Z
X-MICROSOFT-CDO-ALLDAYEVENT:FALSE
SUMMARY:Holiday Parade of Lights
DESCRIPTION:WHO: Penngrove Social Firemen present\n\nWHAT: Penngrove Holiday Parade of Lights \n\nWHEN: Sunday\, December 16\, 2018 from 6:00 pm   7:00 pm\n\nWHERE: Downtown Penngrove along Main St.\, (parade forms at Penngrove Park\, 11800 Main Street)\n\nWHY: Holiday cheer with lighted farm vehicles\n\nINFO: Free to enter your vehicle or float. Get entry form at JavAmore Caf \, call Kim Hanson at 794-1516 or email mrsjjava@hotmail.com\n\nHoliday Parade of Lights   December 16\n\nBundle up\, and come down to Main Street for the third annual Penngrove Holiday Parade of Lights on Sunday\, December 16from 6:00 PM to 7:00 PM. Penngrove Social Firemen offer the spectacle of glammed up tractor trailers\, farm vehicles\, and decorated farm tractors covered in lights. It's not all farm equipment! Last year\, North Bay Performing Arts Center's Contessi Ballet dancers waved from their Cinderella Carriage float.\n\n \n\nLocal merchants will serve soup\, pizza\, hot cider street food to keep you warm. The parade stages in the Penngrove Park\, 11800 Main St.\, and rolls up Main Street toward Adobe Rd. Watch out for the train.There is no entry fee for participants\, who must register\, and gather an hour early at the park. To join the parade\, go to JavAmore Caf  or contact Kim for your entry form at 794-1516 or email mrsjjava@hotmail.com.
X-ALT-DESC;FMTTYPE=text/html:<span style="font-family:arial"><span style="font-size:12pt">WHO: Penngrove Social Firemen present</span></span><br />\n<span style="font-family:arial"><span style="font-size:12pt">WHAT: Penngrove Holiday Parade of Lights&nbsp\;</span></span><br />\n<span style="font-family:arial"><span style="font-size:12pt">WHEN: Sunday\, December 16\, 2018 from 6:00 pm &ndash\; 7:00 pm</span></span><br />\n<span style="font-family:arial"><span style="font-size:12pt">WHERE: Downtown Penngrove along Main St.\, (parade forms at Penngrove Park\, 11800 Main Street)</span></span><br />\n<span style="font-family:arial"><span style="font-size:12pt">WHY: Holiday cheer with lighted farm vehicles</span></span><br />\n<span style="font-family:arial"><span style="font-size:12pt">INFO: Free to enter your vehicle or float. Get entry form at JavAmore Caf&eacute\;\, call Kim Hanson at 794-1516 or email&nbsp\;</span></span><span style="font-family:arial"><span style="font-size:12pt">mrsjjava@hotmail.com</span></span><br />\n<strong><span style="font-family:arial"><span style="font-size:12pt">Holiday Parade of Lights &ndash\; December 16</span></span></strong><br />\n<span style="font-family:arial"><span style="font-size:12pt">Bundle up\, and come down to Main Street for the third annual Penngrove Holiday Parade of Lights on Sunday\,&nbsp\;<strong>December 16</strong>from 6:00 PM to 7:00 PM. Penngrove Social Firemen offer the spectacle of glammed up tractor trailers\, farm vehicles\, and decorated farm tractors covered in lights. It&rsquo\;s not all farm equipment! Last year\,&nbsp\;</span></span><span style="font-family:arial"><span style="font-size:12pt">North Bay Performing Arts Center&rsquo\;s Contessi Ballet dancers waved from their Cinderella Carriage float.</span></span><br />\n&nbsp\;<br />\n<span style="font-family:arial"><span style="font-size:12pt">Local merchants will serve soup\, pizza\, hot cider street food to keep you warm.&nbsp\;</span></span><span style="font-family:arial"><span style="font-size:12pt">The parade stages in the Penngrove Park\, 11800 Main St.\, and rolls up&nbsp\;</span></span><span style="font-family:arial"><span style="font-size:12pt">Main Street toward Adobe Rd.&nbsp\;</span></span><span style="font-family:arial"><span style="font-size:12pt">Watch out for the train.There is no entry fee for participants\, who must register\, and gather an hour early at the park. To join the parade\, go to JavAmore Caf&eacute\; or contact Kim for your entry form at 794-1516 or email&nbsp\;</span></span><span style="font-family:arial"><span style="font-size:12pt">mrsjjava@hotmail.com</span></span><span style="font-family:arial"><span style="font-size:12pt">.&nbsp\;</span></span><br />\n&nbsp\;
LOCATION:Downtown Penngrove CA on Main Street (between Old Redwood Hwy. and Adobe Rd. Parade participants form at 5:00 pm at Penngrove Park\, 11800 Main St.\, Penngrove CA
UID:e.1308.12882
SEQUENCE:3
DTSTAMP:20260419T143736Z
URL:https://business.petalumachamber.biz/events/details/holiday-parade-of-lights-12882
END:VEVENT

END:VCALENDAR
