BEGIN:VCALENDAR
VERSION:2.0
PRODID:-//ChamberMaster//Event Calendar 2.0//EN
METHOD:PUBLISH
X-PUBLISHED-TTL:P3D
REFRESH-INTERVAL:P3D
CALSCALE:GREGORIAN
BEGIN:VEVENT
DTSTART:20260515T000000Z
DTEND:20260515T030000Z
X-MICROSOFT-CDO-ALLDAYEVENT:FALSE
SUMMARY:Human Landscapes: Making the Familiar Strange
DESCRIPTION:A show by Debra Seal.
X-ALT-DESC;FMTTYPE=text/html:A show by Debra Seal.
LOCATION:Keller Street CoWork 140 Keller Street Petaluma\, CA 94952
UID:e.1308.18043
SEQUENCE:3
DTSTAMP:20260421T204208Z
URL:https://business.petalumachamber.biz/events/details/human-landscapes-making-the-familiar-strange-18043
END:VEVENT

END:VCALENDAR
