BEGIN:VCALENDAR
VERSION:2.0
PRODID:-//ChamberMaster//Event Calendar 2.0//EN
METHOD:PUBLISH
X-PUBLISHED-TTL:P3D
REFRESH-INTERVAL:P3D
CALSCALE:GREGORIAN
BEGIN:VEVENT
DTSTART:20190119T220000Z
DTEND:20190119T233000Z
X-MICROSOFT-CDO-ALLDAYEVENT:FALSE
SUMMARY:Is Long Term Care Insurance for you?
DESCRIPTION:A panel on the pros\, cons\, and considerations when deciding whether to purchase long-term care insurance. Researchers estimate that more than half of today's 65-year-olds will require long-term care at some point\, most averaging less than two years. It's is a complicated product\, not for everyone\, and it doesn't cover everything. But for many of us\, having it may be good planning. MODERATOR: Marcy Baskin\, Elder Care Manager and family coach with Senior Care Authority. PANELISTS: - Kelly Grant\, licensed agent with New York Life Insurance Company\, based in Santa Rosa - Gabriella Ambrosi\, co-owner and CEO of Sequoia Senior Solutions in Petaluma - Mike Gorman\, a certified financial planner with Creekside Partners\, Petaluma. For more info call 776.6055 or info@VillageNetworkofPetaluma.org
X-ALT-DESC;FMTTYPE=text/html:A panel on the pros\, cons\, and considerations when deciding whether to purchase long-term care insurance. Researchers estimate that more than half of today&rsquo\;s 65-year-olds will require long-term care at some point\, most averaging less than two years. It&rsquo\;s is a complicated product\, not for everyone\, and it doesn&#39\;t cover everything. But for many of us\, having it may be good planning. MODERATOR: Marcy Baskin\, Elder Care Manager and family coach with Senior Care Authority. PANELISTS: - Kelly Grant\, licensed agent with New York Life Insurance Company\, based in Santa Rosa - Gabriella Ambrosi\, co-owner and CEO of Sequoia Senior Solutions in Petaluma - Mike Gorman\, a certified financial planner with Creekside Partners\, Petaluma. For more info call 776.6055 or info@VillageNetworkofPetaluma.org
LOCATION:Petaluma Library\, 100 Fairgrounds Dr.\, Petaluma
UID:e.1308.12906
SEQUENCE:3
DTSTAMP:20260419T161548Z
URL:https://business.petalumachamber.biz/events/details/is-long-term-care-insurance-for-you-12906
END:VEVENT

END:VCALENDAR
