BEGIN:VCALENDAR
VERSION:2.0
PRODID:-//ChamberMaster//Event Calendar 2.0//EN
METHOD:PUBLISH
X-PUBLISHED-TTL:P3D
REFRESH-INTERVAL:P3D
CALSCALE:GREGORIAN
BEGIN:VEVENT
DTSTART:20200112T013000Z
DTEND:20200112T053000Z
X-MICROSOFT-CDO-ALLDAYEVENT:FALSE
SUMMARY:Italian Night
DESCRIPTION:A benefit dinner of pork scallopine\, Little Hills chicken\, ravioli and accordion with Tony Mustaro benefits Penngrove Social Firemen community projects. Advance tickets at JavAmore Cafe\, 10101 Main St. or online at www.ItalianNightPenngrove@brownpapertickets.com
X-ALT-DESC;FMTTYPE=text/html:A benefit dinner of pork scallopine\, Little Hills chicken\, ravioli and accordion with Tony Mustaro benefits Penngrove Social Firemen community projects. Advance tickets at JavAmore Cafe\, 10101 Main St. or online at www.ItalianNightPenngrove@brownpapertickets.com
LOCATION:385 Woodward Ave.\, Penngrove
UID:e.1308.13982
SEQUENCE:3
DTSTAMP:20260420T131038Z
URL:https://business.petalumachamber.biz/events/details/italian-night-13982
END:VEVENT

END:VCALENDAR
