BEGIN:VCALENDAR
VERSION:2.0
PRODID:-//ChamberMaster//Event Calendar 2.0//EN
METHOD:PUBLISH
X-PUBLISHED-TTL:P3D
REFRESH-INTERVAL:P3D
CALSCALE:GREGORIAN
BEGIN:VEVENT
DTSTART:20181201T153000Z
DTEND:20181201T200000Z
X-MICROSOFT-CDO-ALLDAYEVENT:FALSE
SUMMARY:Jingle Bell Run-Petaluma
DESCRIPTION:2018 Jingle Bell Run - Petaluma Saturday\, December 1\, 2018 Shollenberger Park Be part of the longest-running\, holiday-themed 5K race series anywhere   and fight with us to conquer arthritis! The Arthritis Foundation's original Jingle Bell Run is a fun way to get decked out and be festive\, while racing to raise funds and awareness to cure America's #1 cause of disability. Put on your favorite holiday costume. Tie jingle bells to your shoelaces. 'Tis the season to live it up and be jolly for a reason! Bring a team of friends\, family and co-workers to run or walk\, spread smiles and good cheer   and be a Champion of Yes! 100 percent of your registration fee and fundraising efforts go to this great cause. For more help or information about the 2018 Jingle Bell Run - Petaluma\, contact Pat Baenen at pbaenen@arthritis.org or call 650-383-4025.
X-ALT-DESC;FMTTYPE=text/html:2018 Jingle Bell Run - Petaluma Saturday\, December 1\, 2018 Shollenberger Park Be part of the longest-running\, holiday-themed 5K race series anywhere &ndash\; and fight with us to conquer arthritis! The Arthritis Foundation&rsquo\;s original Jingle Bell Run is a fun way to get decked out and be festive\, while racing to raise funds and awareness to cure America&rsquo\;s #1 cause of disability. Put on your favorite holiday costume. Tie jingle bells to your shoelaces. &rsquo\;Tis the season to live it up and be jolly for a reason! Bring a team of friends\, family and co-workers to run or walk\, spread smiles and good cheer &hellip\; and be a Champion of Yes! 100 percent of your registration fee and fundraising efforts go to this great cause. For more help or information about the 2018 Jingle Bell Run - Petaluma\, contact Pat Baenen at pbaenen@arthritis.org or call 650-383-4025.
LOCATION:Shollenberger Park
UID:e.1308.11747
SEQUENCE:3
DTSTAMP:20260419T143559Z
URL:https://business.petalumachamber.biz/events/details/jingle-bell-run-petaluma-11747
END:VEVENT

END:VCALENDAR
