BEGIN:VCALENDAR
VERSION:2.0
PRODID:-//ChamberMaster//Event Calendar 2.0//EN
METHOD:PUBLISH
X-PUBLISHED-TTL:P3D
REFRESH-INTERVAL:P3D
CALSCALE:GREGORIAN
BEGIN:VEVENT
DTSTART:20190412T190000Z
DTEND:20190412T210000Z
X-MICROSOFT-CDO-ALLDAYEVENT:FALSE
SUMMARY:Keller Street CoWork presents: Financial Planning Luncheon
DESCRIPTION:Join Keller Street CoWork for a FREE financial planning Luncheon on Friday\, April 12th from 12pm-2pm. We are a proud new member of the National Retirement Planning Coalition\, and April 8-12th is National Retirement Planning Week\, so come out and have lunch with us and learn about how to make sure you're set for retirement! We are excited to announce that Julian W.J. Beal\, Financial Planner of AXA Advisors\, will be joining us to discuss the importance of investing for your future and the tools needed to properly plan for retirement. Topics will include Social Security\, Budgeting\, Asset Management\, and HealthCare. Learn the basics of investing\, and find out how you can plan for a better future! The National Retirement Planning Coalition\, spearheaded by the Insured Retirement Institute\, recognizes the need to educate Americans on retirement planning and is committed to making this a national priority. To support these education efforts\, the coalition has collected the latest resources to help consumers and financial professionals focus on long-term financial goals. These tools are available year-round at www.retireonyourterms.org. To support the efforts of the Coalition\, Keller Street CoWork is excited to sponsor this event and we hope to see you. This is a free event\, but space is limited\, so please RSVP via bit.ly/kscretirement
X-ALT-DESC;FMTTYPE=text/html:Join Keller Street CoWork for a FREE financial planning Luncheon on Friday\, April 12th from 12pm-2pm. We are a proud new member of the National Retirement Planning Coalition\, and April 8-12th is National Retirement Planning Week\, so come out and have lunch with us and learn about how to make sure you&#39\;re set for retirement! We are excited to announce that Julian W.J. Beal\, Financial Planner of AXA Advisors\, will be joining us to discuss the importance of investing for your future and the tools needed to properly plan for retirement. Topics will include Social Security\, Budgeting\, Asset Management\, and HealthCare. Learn the basics of investing\, and find out how you can plan for a better future! The National Retirement Planning Coalition\, spearheaded by the Insured Retirement Institute\, recognizes the need to educate Americans on retirement planning and is committed to making this a national priority. To support these education efforts\, the coalition has collected the latest resources to help consumers and financial professionals focus on long-term financial goals. These tools are available year-round at www.retireonyourterms.org. To support the efforts of the Coalition\, Keller Street CoWork is excited to sponsor this event and we hope to see you. This is a free event\, but space is limited\, so please RSVP via bit.ly/kscretirement
LOCATION:Keller Street CoWork 140 Keller St Petaluma\, CA
UID:e.1308.12967
SEQUENCE:3
DTSTAMP:20260419T211102Z
URL:https://business.petalumachamber.biz/events/details/keller-street-cowork-presents-financial-planning-luncheon-12967
END:VEVENT

END:VCALENDAR
