BEGIN:VCALENDAR
VERSION:2.0
PRODID:-//ChamberMaster//Event Calendar 2.0//EN
METHOD:PUBLISH
X-PUBLISHED-TTL:P3D
REFRESH-INTERVAL:P3D
CALSCALE:GREGORIAN
BEGIN:VEVENT
DTSTART:20181103T000000Z
DTEND:20181103T020000Z
X-MICROSOFT-CDO-ALLDAYEVENT:FALSE
SUMMARY:Keller Street Happy Hour
DESCRIPTION:Join us Friday evening from 5-7 pm! Enjoy music\, wine tastings by La Pitchoune and fun with Petaluma's HIPPEST coworkers. \n\nBring a friend or two and end the week on a Social High!
X-ALT-DESC;FMTTYPE=text/html:<p>Join us Friday evening from 5-7 pm! Enjoy music\, wine tastings by&nbsp\;La Pitchoune&nbsp\;and fun with Petaluma&rsquo\;s HIPPEST coworkers.&nbsp\;</p>\n\n<p>Bring a friend or two and end the week on a Social High!</p>\n
LOCATION:Keller Street CoWork 140 Keller Street Petaluma\, CA 94952
UID:e.1308.12834
SEQUENCE:3
DTSTAMP:20260419T130435Z
URL:https://business.petalumachamber.biz/events/details/keller-street-happy-hour-12834
END:VEVENT

END:VCALENDAR
