BEGIN:VCALENDAR
VERSION:2.0
PRODID:-//ChamberMaster//Event Calendar 2.0//EN
METHOD:PUBLISH
X-PUBLISHED-TTL:P3D
REFRESH-INTERVAL:P3D
CALSCALE:GREGORIAN
BEGIN:VEVENT
DTSTART:20211212T020000Z
DTEND:20211212T033000Z
X-MICROSOFT-CDO-ALLDAYEVENT:FALSE
SUMMARY:Lighted Boat Parade
DESCRIPTION:Get on your warm coats\, maybe bring a blanket and a cup of hot cocoa and watch the lighted boats parade into the Petaluma Turning Basin all dazzled up for the holiday in twinkling lights.
X-ALT-DESC;FMTTYPE=text/html:Get on your warm coats\, maybe bring a blanket and a cup of hot cocoa and watch the lighted boats parade into the Petaluma Turning Basin all dazzled up for the holiday in twinkling lights.
LOCATION:Petaluma Turning Basin
UID:e.1308.16369
SEQUENCE:3
DTSTAMP:20260422T030618Z
URL:https://business.petalumachamber.biz/events/details/lighted-boat-parade-16369
END:VEVENT

END:VCALENDAR
