BEGIN:VCALENDAR
VERSION:2.0
PRODID:-//ChamberMaster//Event Calendar 2.0//EN
METHOD:PUBLISH
X-PUBLISHED-TTL:P3D
REFRESH-INTERVAL:P3D
CALSCALE:GREGORIAN
BEGIN:VEVENT
DTSTART:20190411T233000Z
DTEND:20190412T013000Z
X-MICROSOFT-CDO-ALLDAYEVENT:FALSE
SUMMARY:Literic Business After Hours and Ribbon Cutting
DESCRIPTION:Join us for a Business After Hours mixer event at Literic and celebrate their ribbon cutting!
X-ALT-DESC;FMTTYPE=text/html:Join us for a Business After Hours mixer event at Literic and celebrate their ribbon cutting!
LOCATION:345 Lakeville St
UID:e.1308.12940
SEQUENCE:3
DTSTAMP:20260419T211039Z
URL:https://business.petalumachamber.biz/events/details/literic-business-after-hours-and-ribbon-cutting-12940
END:VEVENT

END:VCALENDAR
