BEGIN:VCALENDAR
VERSION:2.0
PRODID:-//ChamberMaster//Event Calendar 2.0//EN
METHOD:PUBLISH
X-PUBLISHED-TTL:P3D
REFRESH-INTERVAL:P3D
CALSCALE:GREGORIAN
BEGIN:VEVENT
DTSTART:20191021T210000Z
DTEND:20191021T220000Z
X-MICROSOFT-CDO-ALLDAYEVENT:FALSE
SUMMARY:LIVE WEBINAR: Mandatory 1-Hour Harassment Prevention Training for Non-Managers/Non-Supervisors (ENGLISH LANGUAGE)
DESCRIPTION:This is a live webinar and participants will join via computer. This webinar will provide training required by CA law for non-manager/non-supervisors. It will be presented by Sutton Hague Law Corporation attorney\, Brett Sutton. It is also live and interactive! Participants will receive a certificate for attending.
X-ALT-DESC;FMTTYPE=text/html:This is a live webinar and participants will join via computer. This webinar will provide training required by CA law for non-manager/non-supervisors. It will be presented by Sutton Hague Law Corporation attorney\, Brett Sutton. It is also live and interactive! Participants will receive a certificate for attending.
LOCATION:Online\, participants will join via computer
UID:e.1308.13936
SEQUENCE:3
DTSTAMP:20260420T080417Z
URL:https://business.petalumachamber.biz/events/details/live-webinar-mandatory-1-hour-harassment-prevention-training-for-non-managers-non-supervisors-english-language-13936
END:VEVENT

END:VCALENDAR
