BEGIN:VCALENDAR
VERSION:2.0
PRODID:-//ChamberMaster//Event Calendar 2.0//EN
METHOD:PUBLISH
X-PUBLISHED-TTL:P3D
REFRESH-INTERVAL:P3D
CALSCALE:GREGORIAN
BEGIN:VEVENT
DTSTART:20220129T030000Z
DTEND:20220129T040000Z
X-MICROSOFT-CDO-ALLDAYEVENT:FALSE
SUMMARY:Lunar New Year Livestream and Guided Meditation
DESCRIPTION:While this isn't the Lunar New Year event we originally envisioned we are becoming pros at this whole "pivot" thing.\n\n\n\nJoin Mage & Maven on YouTube live for a virtual "open house". Learn about the upcoming Year of the Tiger and some little traditions you may want to practice as well as a few Chinese Astrology based forecasts for the year ahead.\n\n\n\nMelissa Durfey MAcOM\, LE will also be leading us in a New Year's Meditation to help you set your intentions for the upcoming year.\n\n\n\nThere will be a replay available for those who miss the live event.
X-ALT-DESC;FMTTYPE=text/html:<div><span style="color:rgb(117\, 117\, 117)\; font-family:helvetica\; font-size:16px">While this isn&#39\;t the Lunar New Year event we originally envisioned we are becoming pros at this whole &quot\;pivot&quot\; thing.</span><br />\n<br />\n<span style="color:rgb(117\, 117\, 117)\; font-family:helvetica\; font-size:16px">Join Mage &amp\; Maven on YouTube live for a virtual &quot\;open house&quot\;. Learn about the upcoming Year of the Tiger and some little traditions you may want to practice as well as a few Chinese Astrology based forecasts for the year ahead.</span><br />\n<br />\n<span style="color:rgb(117\, 117\, 117)\; font-family:helvetica\; font-size:16px">Melissa Durfey MAcOM\, LE will also be leading us in a New Year&#39\;s Meditation to help you set your intentions for the upcoming year.</span><br />\n<br />\n<span style="color:rgb(117\, 117\, 117)\; font-family:helvetica\; font-size:16px">There will be a replay available for those who miss the live event.</span></div>\n
LOCATION:On your device: https://www.youtube.com/watch?v=peGIx2zBvKI
UID:e.1308.16382
SEQUENCE:3
DTSTAMP:20260422T044607Z
URL:https://business.petalumachamber.biz/events/details/lunar-new-year-livestream-and-guided-meditation-16382
END:VEVENT

END:VCALENDAR
