BEGIN:VCALENDAR
VERSION:2.0
PRODID:-//ChamberMaster//Event Calendar 2.0//EN
METHOD:PUBLISH
X-PUBLISHED-TTL:P3D
REFRESH-INTERVAL:P3D
CALSCALE:GREGORIAN
BEGIN:VEVENT
DTSTART:20200126T220000Z
DTEND:20200127T000000Z
X-MICROSOFT-CDO-ALLDAYEVENT:FALSE
SUMMARY:Lunar New Year's Lion Dance at Pho Sonoma!
DESCRIPTION:Family Friendly Event Lion Dance and Prizes! Prizes included:   15% OFF VIP card for Life   $25 Gift Certificate   Free Boba Drinks   Free Spring Rolls or Eggrolls   Free Sandwiches   Free Desserts *Prizes are for dine-in customers only 1 in 4 customers is a winner!
X-ALT-DESC;FMTTYPE=text/html:Family Friendly Event Lion Dance and Prizes! Prizes included: &bull\; 15% OFF VIP card for Life &bull\; $25 Gift Certificate &bull\; Free Boba Drinks &bull\; Free Spring Rolls or Eggrolls &bull\; Free Sandwiches &bull\; Free Desserts *Prizes are for dine-in customers only 1 in 4 customers is a winner!
LOCATION:Pho Sonoma 140 Second St\, Suite 120 Petaluma CA 94954
UID:e.1308.13984
SEQUENCE:3
DTSTAMP:20260420T131440Z
URL:https://business.petalumachamber.biz/events/details/lunar-new-year-s-lion-dance-at-pho-sonoma-13984
END:VEVENT

END:VCALENDAR
