BEGIN:VCALENDAR
VERSION:2.0
PRODID:-//ChamberMaster//Event Calendar 2.0//EN
METHOD:PUBLISH
X-PUBLISHED-TTL:P3D
REFRESH-INTERVAL:P3D
CALSCALE:GREGORIAN
BEGIN:VEVENT
DTSTART:20190310T020000Z
DTEND:20190310T040000Z
X-MICROSOFT-CDO-ALLDAYEVENT:FALSE
SUMMARY:Noche de poemas
DESCRIPTION:This promises to be a special evening featuring local community members reading poetry in Spanish\, a photography exhibit by Petaluma-based artist\, Eddy DeLeon\, and plenty of opportunities to connect with your community in Spanish. Join us in celebrating the beautiful Latino cultures in our community. All are welcome.
X-ALT-DESC;FMTTYPE=text/html:<span style="color:rgb(32\, 33\, 36)\; font-family:roboto\,arial\,sans-serif\; font-size:16px">This promises to be a special evening featuring local community members reading poetry in Spanish\, a photography exhibit by Petaluma-based artist\, Eddy DeLeon\, and plenty of opportunities to connect with your community in Spanish. Join us in celebrating the beautiful Latino cultures in our community. All are welcome.</span>
LOCATION:Keller Street Cowork
UID:e.1308.12944
SEQUENCE:3
DTSTAMP:20260419T193500Z
URL:https://business.petalumachamber.biz/events/details/marin-spanish-school-caf&#233;-puente-event-non-profit-12944
END:VEVENT

END:VCALENDAR
